BEGIN:VCALENDAR
VERSION:2.0
PRODID:-//spbstu.ru//ical//RU
NAME:Расписание группы 5130904/30101
X-WR-CALNAME:Расписание группы 5130904/30101
TIMEZONE-ID:Europe/Moscow
X-WR-TIMEZONE:Europe/Moscow
BEGIN:VEVENT
UID:pv3b@192.168.245.71:3006
SEQUENCE:0
DTSTAMP:20260425T172640Z
DTSTART:20251013T090000Z
DTEND:20251013T104000Z
SUMMARY:Операционные системы
LOCATION:3 к. 215
END:VEVENT
BEGIN:VEVENT
UID:2vqd@192.168.245.71:3006
SEQUENCE:0
DTSTAMP:20260425T172640Z
DTSTART:20251014T053000Z
DTEND:20251014T142000Z
SUMMARY:Военная подготовка
LOCATION:Военная каф. кафедра
END:VEVENT
BEGIN:VEVENT
UID:mqcb@192.168.245.71:3006
SEQUENCE:0
DTSTAMP:20260425T172640Z
DTSTART:20251015T090000Z
DTEND:20251015T104000Z
SUMMARY:Операционные системы
LOCATION:3 к. 105
END:VEVENT
BEGIN:VEVENT
UID:15oo@192.168.245.71:3006
SEQUENCE:0
DTSTAMP:20260425T172640Z
DTSTART:20251015T110000Z
DTEND:20251015T124000Z
SUMMARY:Методы оптимизации
LOCATION:3 к. 111
END:VEVENT
BEGIN:VEVENT
UID:nonx@192.168.245.71:3006
SEQUENCE:0
DTSTAMP:20260425T172640Z
DTSTART:20251015T140000Z
DTEND:20251015T154000Z
SUMMARY:Методы оптимизации
LOCATION:DL Дистанционно
END:VEVENT
BEGIN:VEVENT
UID:21vw@192.168.245.71:3006
SEQUENCE:0
DTSTAMP:20260425T172640Z
DTSTART:20251016T100000Z
DTEND:20251016T114000Z
SUMMARY:Конструирование программного обеспечения
LOCATION:DL Дистанционно
END:VEVENT
BEGIN:VEVENT
UID:vap2@192.168.245.71:3006
SEQUENCE:0
DTSTAMP:20260425T172640Z
DTSTART:20251016T130000Z
DTEND:20251016T144000Z
SUMMARY:Теория вероятностей и математическая статистика
LOCATION:3 к. 107
END:VEVENT
BEGIN:VEVENT
UID:q4zl@192.168.245.71:3006
SEQUENCE:0
DTSTAMP:20260425T172640Z
DTSTART:20251017T070000Z
DTEND:20251017T084000Z
SUMMARY:Архитектура программных систем
LOCATION:3 к. 110
END:VEVENT
BEGIN:VEVENT
UID:in16@192.168.245.71:3006
SEQUENCE:0
DTSTAMP:20260425T172640Z
DTSTART:20251017T090000Z
DTEND:20251017T104000Z
SUMMARY:Теория вероятностей и математическая статистика
LOCATION:3 к. 215
END:VEVENT
BEGIN:VEVENT
UID:94f1@192.168.245.71:3006
SEQUENCE:0
DTSTAMP:20260425T172640Z
DTSTART:20251017T130000Z
DTEND:20251017T144000Z
SUMMARY:Архитектура программных систем
LOCATION:ГЗ 237
END:VEVENT
BEGIN:VEVENT
UID:klf7@192.168.245.71:3006
SEQUENCE:0
DTSTAMP:20260425T172640Z
DTSTART:20251018T070000Z
DTEND:20251018T084000Z
SUMMARY:Базы данных
LOCATION:3 к. 201
END:VEVENT
BEGIN:VEVENT
UID:qfyj@192.168.245.71:3006
SEQUENCE:0
DTSTAMP:20260425T172640Z
DTSTART:20251018T090000Z
DTEND:20251018T104000Z
SUMMARY:Военная подготовка
LOCATION:Военная каф. кафедра
END:VEVENT
BEGIN:VEVENT
UID:6k0w@192.168.245.71:3006
SEQUENCE:0
DTSTAMP:20260425T172640Z
DTSTART:20251018T110000Z
DTEND:20251018T124000Z
SUMMARY:Базы данных
LOCATION:3 к. 103
END:VEVENT
BEGIN:VEVENT
UID:ytv7@192.168.245.71:3006
SEQUENCE:0
DTSTAMP:20260425T172640Z
DTSTART:20251018T130000Z
DTEND:20251018T144000Z
SUMMARY:Инструменты программной инженерии
LOCATION:DL Дистанционно
END:VEVENT
END:VCALENDAR