BEGIN:VCALENDAR
VERSION:2.0
PRODID:-//spbstu.ru//ical//RU
NAME:Расписание группы 5130904/30101
X-WR-CALNAME:Расписание группы 5130904/30101
TIMEZONE-ID:Europe/Moscow
X-WR-TIMEZONE:Europe/Moscow
BEGIN:VEVENT
UID:w7jr@192.168.245.71:3006
SEQUENCE:0
DTSTAMP:20260424T131603Z
DTSTART:20251117T070000Z
DTEND:20251117T084000Z
SUMMARY:Математическая логика
LOCATION:3 к. 211
END:VEVENT
BEGIN:VEVENT
UID:v74n@192.168.245.71:3006
SEQUENCE:0
DTSTAMP:20260424T131603Z
DTSTART:20251117T090000Z
DTEND:20251117T104000Z
SUMMARY:Операционные системы
LOCATION:3 к. 215
END:VEVENT
BEGIN:VEVENT
UID:rrni@192.168.245.71:3006
SEQUENCE:0
DTSTAMP:20260424T131603Z
DTSTART:20251117T130000Z
DTEND:20251117T144000Z
SUMMARY:Конструирование программного обеспечения
LOCATION:3 к. 215
END:VEVENT
BEGIN:VEVENT
UID:scfp@192.168.245.71:3006
SEQUENCE:0
DTSTAMP:20260424T131603Z
DTSTART:20251118T053000Z
DTEND:20251118T142000Z
SUMMARY:Военная подготовка
LOCATION:Военная каф. кафедра
END:VEVENT
BEGIN:VEVENT
UID:syvd@192.168.245.71:3006
SEQUENCE:0
DTSTAMP:20260424T131603Z
DTSTART:20251119T090000Z
DTEND:20251119T104000Z
SUMMARY:Операционные системы
LOCATION:3 к. 105
END:VEVENT
BEGIN:VEVENT
UID:zu1i@192.168.245.71:3006
SEQUENCE:0
DTSTAMP:20260424T131603Z
DTSTART:20251119T110000Z
DTEND:20251119T124000Z
SUMMARY:Методы оптимизации
LOCATION:3 к. 111
END:VEVENT
BEGIN:VEVENT
UID:0pc2@192.168.245.71:3006
SEQUENCE:0
DTSTAMP:20260424T131603Z
DTSTART:20251119T140000Z
DTEND:20251119T154000Z
SUMMARY:Методы оптимизации
LOCATION:DL Дистанционно
END:VEVENT
BEGIN:VEVENT
UID:g8d5@192.168.245.71:3006
SEQUENCE:0
DTSTAMP:20260424T131603Z
DTSTART:20251120T100000Z
DTEND:20251120T114000Z
SUMMARY:Конструирование программного обеспечения
LOCATION:DL Дистанционно
END:VEVENT
BEGIN:VEVENT
UID:90du@192.168.245.71:3006
SEQUENCE:0
DTSTAMP:20260424T131603Z
DTSTART:20251120T130000Z
DTEND:20251120T144000Z
SUMMARY:Теория вероятностей и математическая статистика
LOCATION:3 к. 107
END:VEVENT
BEGIN:VEVENT
UID:o8p5@192.168.245.71:3006
SEQUENCE:0
DTSTAMP:20260424T131603Z
DTSTART:20251121T070000Z
DTEND:20251121T084000Z
SUMMARY:Архитектура программных систем
LOCATION:3 к. 110
END:VEVENT
BEGIN:VEVENT
UID:ke1s@192.168.245.71:3006
SEQUENCE:0
DTSTAMP:20260424T131603Z
DTSTART:20251121T090000Z
DTEND:20251121T104000Z
SUMMARY:Теория вероятностей и математическая статистика
LOCATION:3 к. 215
END:VEVENT
BEGIN:VEVENT
UID:um1a@192.168.245.71:3006
SEQUENCE:0
DTSTAMP:20260424T131603Z
DTSTART:20251121T130000Z
DTEND:20251121T144000Z
SUMMARY:Архитектура программных систем
LOCATION:ГЗ 237
END:VEVENT
BEGIN:VEVENT
UID:6ahf@192.168.245.71:3006
SEQUENCE:0
DTSTAMP:20260424T131603Z
DTSTART:20251122T070000Z
DTEND:20251122T084000Z
SUMMARY:Базы данных
LOCATION:3 к. 201
END:VEVENT
BEGIN:VEVENT
UID:bsw7@192.168.245.71:3006
SEQUENCE:0
DTSTAMP:20260424T131603Z
DTSTART:20251122T090000Z
DTEND:20251122T104000Z
SUMMARY:Военная подготовка
LOCATION:Военная каф. кафедра
END:VEVENT
BEGIN:VEVENT
UID:uw07@192.168.245.71:3006
SEQUENCE:0
DTSTAMP:20260424T131603Z
DTSTART:20251122T110000Z
DTEND:20251122T124000Z
SUMMARY:Базы данных
LOCATION:3 к. 103
END:VEVENT
BEGIN:VEVENT
UID:mvk3@192.168.245.71:3006
SEQUENCE:0
DTSTAMP:20260424T131603Z
DTSTART:20251122T130000Z
DTEND:20251122T144000Z
SUMMARY:Инструменты программной инженерии
LOCATION:DL Дистанционно
END:VEVENT
END:VCALENDAR