BEGIN:VCALENDAR
VERSION:2.0
PRODID:-//spbstu.ru//ical//RU
NAME:Расписание группы 5130904/30101
X-WR-CALNAME:Расписание группы 5130904/30101
TIMEZONE-ID:Europe/Moscow
X-WR-TIMEZONE:Europe/Moscow
BEGIN:VEVENT
UID:zgps@192.168.245.71:3006
SEQUENCE:0
DTSTAMP:20260421T102940Z
DTSTART:20260406T110000Z
DTEND:20260406T124000Z
SUMMARY:Системы искусственного интеллекта
LOCATION:3 к. 103
END:VEVENT
BEGIN:VEVENT
UID:0kgx@192.168.245.71:3006
SEQUENCE:0
DTSTAMP:20260421T102940Z
DTSTART:20260407T053000Z
DTEND:20260407T142000Z
SUMMARY:Военная подготовка
LOCATION:Военная каф. кафедра
END:VEVENT
BEGIN:VEVENT
UID:uv53@192.168.245.71:3006
SEQUENCE:0
DTSTAMP:20260421T102940Z
DTSTART:20260408T060000Z
DTEND:20260408T074000Z
SUMMARY:Теория принятия решений
LOCATION:DL Дистанционно
END:VEVENT
BEGIN:VEVENT
UID:k4i0@192.168.245.71:3006
SEQUENCE:0
DTSTAMP:20260421T102940Z
DTSTART:20260408T090000Z
DTEND:20260408T104000Z
SUMMARY:Технологии DevOps в процессе разработки программного обеспечения
LOCATION:3 к. 201
END:VEVENT
BEGIN:VEVENT
UID:89po@192.168.245.71:3006
SEQUENCE:0
DTSTAMP:20260421T102940Z
DTSTART:20260408T130000Z
DTEND:20260408T144000Z
SUMMARY:Технологии DevOps в процессе разработки программного обеспечения
LOCATION:3 к. 110
END:VEVENT
BEGIN:VEVENT
UID:kix3@192.168.245.71:3006
SEQUENCE:0
DTSTAMP:20260421T102940Z
DTSTART:20260409T050000Z
DTEND:20260409T064000Z
SUMMARY:Встраиваемое программное обеспечение и микропроцессорные системы
LOCATION:3 к. 216
END:VEVENT
BEGIN:VEVENT
UID:bf7s@192.168.245.71:3006
SEQUENCE:0
DTSTAMP:20260421T102940Z
DTSTART:20260409T070000Z
DTEND:20260409T084000Z
SUMMARY:Встраиваемое программное обеспечение и микропроцессорные системы
LOCATION:3 к. 215
END:VEVENT
BEGIN:VEVENT
UID:0spt@192.168.245.71:3006
SEQUENCE:0
DTSTAMP:20260421T102940Z
DTSTART:20260409T090000Z
DTEND:20260409T104000Z
SUMMARY:Системы искусственного интеллекта
LOCATION:3 к. 201
END:VEVENT
BEGIN:VEVENT
UID:xv5w@192.168.245.71:3006
SEQUENCE:0
DTSTAMP:20260421T102940Z
DTSTART:20260410T070000Z
DTEND:20260410T084000Z
SUMMARY:Системы управления базами данных
LOCATION:3 к. 102
END:VEVENT
BEGIN:VEVENT
UID:hvp5@192.168.245.71:3006
SEQUENCE:0
DTSTAMP:20260421T102940Z
DTSTART:20260410T090000Z
DTEND:20260410T104000Z
SUMMARY:Архитектура программных систем
LOCATION:3 к. 105
END:VEVENT
BEGIN:VEVENT
UID:z8e5@192.168.245.71:3006
SEQUENCE:0
DTSTAMP:20260421T102940Z
DTSTART:20260410T110000Z
DTEND:20260410T124000Z
SUMMARY:Теория автоматов и формальных языков
LOCATION:3 к. 215
END:VEVENT
BEGIN:VEVENT
UID:mdjg@192.168.245.71:3006
SEQUENCE:0
DTSTAMP:20260421T102940Z
DTSTART:20260410T130000Z
DTEND:20260410T144000Z
SUMMARY:Архитектура программных систем
LOCATION:ГЗ 237
END:VEVENT
BEGIN:VEVENT
UID:vt94@192.168.245.71:3006
SEQUENCE:0
DTSTAMP:20260421T102940Z
DTSTART:20260411T070000Z
DTEND:20260411T084000Z
SUMMARY:Инструменты программной инженерии
LOCATION:3 к. 111
END:VEVENT
END:VCALENDAR