BEGIN:VCALENDAR
VERSION:2.0
PRODID:-//spbstu.ru//ical//RU
NAME:Расписание группы 5131001/30501
X-WR-CALNAME:Расписание группы 5131001/30501
TIMEZONE-ID:Europe/Moscow
X-WR-TIMEZONE:Europe/Moscow
BEGIN:VEVENT
UID:9w4d@192.168.245.71:3006
SEQUENCE:0
DTSTAMP:20260425T134420Z
DTSTART:20251020T090000Z
DTEND:20251020T104000Z
SUMMARY:Теоретико-числовые методы в криптографии
LOCATION:ГЗ 170 Б
END:VEVENT
BEGIN:VEVENT
UID:blux@192.168.245.71:3006
SEQUENCE:0
DTSTAMP:20260425T134420Z
DTSTART:20251020T110000Z
DTEND:20251020T124000Z
SUMMARY:Безопасность современных информационных технологий
LOCATION:3 к. 201
END:VEVENT
BEGIN:VEVENT
UID:mhid@192.168.245.71:3006
SEQUENCE:0
DTSTAMP:20260425T134420Z
DTSTART:20251020T130000Z
DTEND:20251020T144000Z
SUMMARY:Компьютерные сети
LOCATION:3 к. 201
END:VEVENT
BEGIN:VEVENT
UID:qsm9@192.168.245.71:3006
SEQUENCE:0
DTSTAMP:20260425T134420Z
DTSTART:20251021T050000Z
DTEND:20251021T064000Z
SUMMARY:Компьютерные сети
LOCATION:ГЗ 175
END:VEVENT
BEGIN:VEVENT
UID:n6o4@192.168.245.71:3006
SEQUENCE:0
DTSTAMP:20260425T134420Z
DTSTART:20251021T070000Z
DTEND:20251021T084000Z
SUMMARY:Объектно-ориентированное программирование
LOCATION:ГЗ 329
END:VEVENT
BEGIN:VEVENT
UID:ixj0@192.168.245.71:3006
SEQUENCE:0
DTSTAMP:20260425T134420Z
DTSTART:20251021T090000Z
DTEND:20251021T104000Z
SUMMARY:Теоретико-числовые методы в криптографии
LOCATION:ГЗ 237
END:VEVENT
BEGIN:VEVENT
UID:aani@192.168.245.71:3006
SEQUENCE:0
DTSTAMP:20260425T134420Z
DTSTART:20251022T090000Z
DTEND:20251022T104000Z
SUMMARY:Технологии реверс-инжиниринга программного обеспечения
LOCATION:3 к. 215
END:VEVENT
BEGIN:VEVENT
UID:545k@192.168.245.71:3006
SEQUENCE:0
DTSTAMP:20260425T134420Z
DTSTART:20251022T110000Z
DTEND:20251022T124000Z
SUMMARY:Объектно-ориентированное программирование
LOCATION:ГЗ 171
END:VEVENT
BEGIN:VEVENT
UID:hjrh@192.168.245.71:3006
SEQUENCE:0
DTSTAMP:20260425T134420Z
DTSTART:20251022T130000Z
DTEND:20251022T144000Z
SUMMARY:Теоретико-числовые методы в криптографии
LOCATION:ГЗ 170 Б
END:VEVENT
BEGIN:VEVENT
UID:cgxv@192.168.245.71:3006
SEQUENCE:0
DTSTAMP:20260425T134420Z
DTSTART:20251023T052000Z
DTEND:20251023T125000Z
SUMMARY:Военная подготовка
LOCATION:Военная каф. кафедра
END:VEVENT
BEGIN:VEVENT
UID:ztje@192.168.245.71:3006
SEQUENCE:0
DTSTAMP:20260425T134420Z
DTSTART:20251024T070000Z
DTEND:20251024T084000Z
SUMMARY:Организационное и правовое обеспечение информационной безопасности
LOCATION:ГЗ 207
END:VEVENT
BEGIN:VEVENT
UID:x5uj@192.168.245.71:3006
SEQUENCE:0
DTSTAMP:20260425T134420Z
DTSTART:20251024T090000Z
DTEND:20251024T104000Z
SUMMARY:Компьютерные сети
LOCATION:ГЗ 175
END:VEVENT
BEGIN:VEVENT
UID:vfxm@192.168.245.71:3006
SEQUENCE:0
DTSTAMP:20260425T134420Z
DTSTART:20251024T110000Z
DTEND:20251024T124000Z
SUMMARY:Безопасность современных информационных технологий
LOCATION:3 к. 204
END:VEVENT
BEGIN:VEVENT
UID:usis@192.168.245.71:3006
SEQUENCE:0
DTSTAMP:20260425T134420Z
DTSTART:20251024T130000Z
DTEND:20251024T144000Z
SUMMARY:Технологии реверс-инжиниринга программного обеспечения
LOCATION:3 к. 214
END:VEVENT
BEGIN:VEVENT
UID:pq37@192.168.245.71:3006
SEQUENCE:0
DTSTAMP:20260425T134420Z
DTSTART:20251025T053000Z
DTEND:20251025T144000Z
SUMMARY:Военная подготовка
LOCATION:Военная каф. кафедра
END:VEVENT
END:VCALENDAR