BEGIN:VCALENDAR
VERSION:2.0
PRODID:-//spbstu.ru//ical//RU
NAME:Расписание группы 5131001/30501
X-WR-CALNAME:Расписание группы 5131001/30501
TIMEZONE-ID:Europe/Moscow
X-WR-TIMEZONE:Europe/Moscow
BEGIN:VEVENT
UID:4tnm@192.168.245.71:3006
SEQUENCE:0
DTSTAMP:20260425T024224Z
DTSTART:20251103T090000Z
DTEND:20251103T104000Z
SUMMARY:Теоретико-числовые методы в криптографии
LOCATION:3 к. 205
END:VEVENT
BEGIN:VEVENT
UID:gwqn@192.168.245.71:3006
SEQUENCE:0
DTSTAMP:20260425T024224Z
DTSTART:20251103T110000Z
DTEND:20251103T124000Z
SUMMARY:Безопасность современных информационных технологий
LOCATION:3 к. 201
END:VEVENT
BEGIN:VEVENT
UID:sjys@192.168.245.71:3006
SEQUENCE:0
DTSTAMP:20260425T024224Z
DTSTART:20251103T130000Z
DTEND:20251103T144000Z
SUMMARY:Компьютерные сети
LOCATION:3 к. 201
END:VEVENT
BEGIN:VEVENT
UID:yadq@192.168.245.71:3006
SEQUENCE:0
DTSTAMP:20260425T024224Z
DTSTART:20251105T090000Z
DTEND:20251105T104000Z
SUMMARY:Технологии реверс-инжиниринга программного обеспечения
LOCATION:3 к. 215
END:VEVENT
BEGIN:VEVENT
UID:em7t@192.168.245.71:3006
SEQUENCE:0
DTSTAMP:20260425T024224Z
DTSTART:20251105T110000Z
DTEND:20251105T124000Z
SUMMARY:Объектно-ориентированное программирование
LOCATION:ГЗ 171
END:VEVENT
BEGIN:VEVENT
UID:hmcq@192.168.245.71:3006
SEQUENCE:0
DTSTAMP:20260425T024224Z
DTSTART:20251105T130000Z
DTEND:20251105T144000Z
SUMMARY:Теоретико-числовые методы в криптографии
LOCATION:ГЗ 170 Б
END:VEVENT
BEGIN:VEVENT
UID:y1x5@192.168.245.71:3006
SEQUENCE:0
DTSTAMP:20260425T024224Z
DTSTART:20251106T052000Z
DTEND:20251106T125000Z
SUMMARY:Военная подготовка
LOCATION:Военная каф. кафедра
END:VEVENT
BEGIN:VEVENT
UID:zg7n@192.168.245.71:3006
SEQUENCE:0
DTSTAMP:20260425T024224Z
DTSTART:20251107T070000Z
DTEND:20251107T084000Z
SUMMARY:Организационное и правовое обеспечение информационной безопасности
LOCATION:ГЗ 207
END:VEVENT
BEGIN:VEVENT
UID:5sqo@192.168.245.71:3006
SEQUENCE:0
DTSTAMP:20260425T024224Z
DTSTART:20251107T090000Z
DTEND:20251107T104000Z
SUMMARY:Компьютерные сети
LOCATION:ГЗ 175
END:VEVENT
BEGIN:VEVENT
UID:9deg@192.168.245.71:3006
SEQUENCE:0
DTSTAMP:20260425T024224Z
DTSTART:20251107T110000Z
DTEND:20251107T124000Z
SUMMARY:Безопасность современных информационных технологий
LOCATION:3 к. 204
END:VEVENT
BEGIN:VEVENT
UID:2410@192.168.245.71:3006
SEQUENCE:0
DTSTAMP:20260425T024224Z
DTSTART:20251107T130000Z
DTEND:20251107T144000Z
SUMMARY:Технологии реверс-инжиниринга программного обеспечения
LOCATION:3 к. 214
END:VEVENT
BEGIN:VEVENT
UID:vdfz@192.168.245.71:3006
SEQUENCE:0
DTSTAMP:20260425T024224Z
DTSTART:20251108T053000Z
DTEND:20251108T144000Z
SUMMARY:Военная подготовка
LOCATION:Военная каф. кафедра
END:VEVENT
END:VCALENDAR