BEGIN:VCALENDAR
VERSION:2.0
PRODID:-//spbstu.ru//ical//RU
NAME:Расписание группы 5131001/30501
X-WR-CALNAME:Расписание группы 5131001/30501
TIMEZONE-ID:Europe/Moscow
X-WR-TIMEZONE:Europe/Moscow
BEGIN:VEVENT
UID:nnk4@192.168.245.71:3006
SEQUENCE:0
DTSTAMP:20260421T221916Z
DTSTART:20260420T070000Z
DTEND:20260420T084000Z
SUMMARY:Компьютерные сети
LOCATION:ГЗ 228
END:VEVENT
BEGIN:VEVENT
UID:jfd4@192.168.245.71:3006
SEQUENCE:0
DTSTAMP:20260421T221916Z
DTSTART:20260420T110000Z
DTEND:20260420T124000Z
SUMMARY:Формальные грамматики и теория компиляторов
LOCATION:ГЗ 215
END:VEVENT
BEGIN:VEVENT
UID:se85@192.168.245.71:3006
SEQUENCE:0
DTSTAMP:20260421T221916Z
DTSTART:20260420T130000Z
DTEND:20260420T144000Z
SUMMARY:Безопасность современных информационных технологий
LOCATION:ГЗ 122
END:VEVENT
BEGIN:VEVENT
UID:u15o@192.168.245.71:3006
SEQUENCE:0
DTSTAMP:20260421T221916Z
DTSTART:20260421T070000Z
DTEND:20260421T084000Z
SUMMARY:Компьютерные сети
LOCATION:ГЗ 305
END:VEVENT
BEGIN:VEVENT
UID:sr6l@192.168.245.71:3006
SEQUENCE:0
DTSTAMP:20260421T221916Z
DTSTART:20260421T090000Z
DTEND:20260421T104000Z
SUMMARY:Алгебраические основы криптографии
LOCATION:ГЗ 237
END:VEVENT
BEGIN:VEVENT
UID:toy0@192.168.245.71:3006
SEQUENCE:0
DTSTAMP:20260421T221916Z
DTSTART:20260421T130000Z
DTEND:20260421T144000Z
SUMMARY:Технологии разработки современного программного обеспечения
LOCATION:3 к. 310
END:VEVENT
BEGIN:VEVENT
UID:rmc8@192.168.245.71:3006
SEQUENCE:0
DTSTAMP:20260421T221916Z
DTSTART:20260422T070000Z
DTEND:20260422T084000Z
SUMMARY:Стандарты информационной безопасности
LOCATION:3 к. 205
END:VEVENT
BEGIN:VEVENT
UID:rsnc@192.168.245.71:3006
SEQUENCE:0
DTSTAMP:20260421T221916Z
DTSTART:20260422T090000Z
DTEND:20260422T104000Z
SUMMARY:Формальные грамматики и теория компиляторов
LOCATION:3 к. 307
END:VEVENT
BEGIN:VEVENT
UID:p8bf@192.168.245.71:3006
SEQUENCE:0
DTSTAMP:20260421T221916Z
DTSTART:20260422T110000Z
DTEND:20260422T124000Z
SUMMARY:Модели безопасности компьютерных систем
LOCATION:3 к. 201
END:VEVENT
BEGIN:VEVENT
UID:vg8w@192.168.245.71:3006
SEQUENCE:0
DTSTAMP:20260421T221916Z
DTSTART:20260422T130000Z
DTEND:20260422T144000Z
SUMMARY:Технологии разработки современного программного обеспечения
LOCATION:3 к. 201
END:VEVENT
BEGIN:VEVENT
UID:96lr@192.168.245.71:3006
SEQUENCE:0
DTSTAMP:20260421T221916Z
DTSTART:20260423T053000Z
DTEND:20260423T142000Z
SUMMARY:Военная подготовка
LOCATION:Военная каф. кафедра
END:VEVENT
BEGIN:VEVENT
UID:cb5h@192.168.245.71:3006
SEQUENCE:0
DTSTAMP:20260421T221916Z
DTSTART:20260424T070000Z
DTEND:20260424T084000Z
SUMMARY:Безопасность современных информационных технологий
LOCATION:3 к. 210
END:VEVENT
BEGIN:VEVENT
UID:8gd2@192.168.245.71:3006
SEQUENCE:0
DTSTAMP:20260421T221916Z
DTSTART:20260424T090000Z
DTEND:20260424T104000Z
SUMMARY:Модели безопасности компьютерных систем
LOCATION:3 к. 206
END:VEVENT
BEGIN:VEVENT
UID:6zzn@192.168.245.71:3006
SEQUENCE:0
DTSTAMP:20260421T221916Z
DTSTART:20260424T110000Z
DTEND:20260424T124000Z
SUMMARY:Алгебраические основы криптографии
LOCATION:3 к. 307
END:VEVENT
BEGIN:VEVENT
UID:u7cu@192.168.245.71:3006
SEQUENCE:0
DTSTAMP:20260421T221916Z
DTSTART:20260424T130000Z
DTEND:20260424T144000Z
SUMMARY:Компьютерные сети
LOCATION:ГЗ 175
END:VEVENT
END:VCALENDAR