BEGIN:VCALENDAR
VERSION:2.0
PRODID:-//spbstu.ru//ical//RU
NAME:Расписание группы 5131001/30501
X-WR-CALNAME:Расписание группы 5131001/30501
TIMEZONE-ID:Europe/Moscow
X-WR-TIMEZONE:Europe/Moscow
BEGIN:VEVENT
UID:0356@192.168.245.71:3006
SEQUENCE:0
DTSTAMP:20260422T082021Z
DTSTART:20260518T110000Z
DTEND:20260518T124000Z
SUMMARY:Формальные грамматики и теория компиляторов
LOCATION:ГЗ 215
END:VEVENT
BEGIN:VEVENT
UID:31fh@192.168.245.71:3006
SEQUENCE:0
DTSTAMP:20260422T082021Z
DTSTART:20260518T130000Z
DTEND:20260518T144000Z
SUMMARY:Безопасность современных информационных технологий
LOCATION:ГЗ 122
END:VEVENT
BEGIN:VEVENT
UID:qe17@192.168.245.71:3006
SEQUENCE:0
DTSTAMP:20260422T082021Z
DTSTART:20260519T070000Z
DTEND:20260519T084000Z
SUMMARY:Компьютерные сети
LOCATION:ГЗ 305
END:VEVENT
BEGIN:VEVENT
UID:00ba@192.168.245.71:3006
SEQUENCE:0
DTSTAMP:20260422T082021Z
DTSTART:20260519T090000Z
DTEND:20260519T104000Z
SUMMARY:Алгебраические основы криптографии
LOCATION:ГЗ 237
END:VEVENT
BEGIN:VEVENT
UID:dx8f@192.168.245.71:3006
SEQUENCE:0
DTSTAMP:20260422T082021Z
DTSTART:20260520T130000Z
DTEND:20260520T144000Z
SUMMARY:Технологии разработки современного программного обеспечения
LOCATION:3 к. 201
END:VEVENT
BEGIN:VEVENT
UID:2hzq@192.168.245.71:3006
SEQUENCE:0
DTSTAMP:20260422T082021Z
DTSTART:20260521T053000Z
DTEND:20260521T142000Z
SUMMARY:Военная подготовка
LOCATION:Военная каф. кафедра
END:VEVENT
BEGIN:VEVENT
UID:r88w@192.168.245.71:3006
SEQUENCE:0
DTSTAMP:20260422T082021Z
DTSTART:20260522T070000Z
DTEND:20260522T084000Z
SUMMARY:Безопасность современных информационных технологий
LOCATION:3 к. 210
END:VEVENT
BEGIN:VEVENT
UID:1eez@192.168.245.71:3006
SEQUENCE:0
DTSTAMP:20260422T082021Z
DTSTART:20260522T090000Z
DTEND:20260522T104000Z
SUMMARY:Модели безопасности компьютерных систем
LOCATION:3 к. 206
END:VEVENT
BEGIN:VEVENT
UID:xl17@192.168.245.71:3006
SEQUENCE:0
DTSTAMP:20260422T082021Z
DTSTART:20260522T130000Z
DTEND:20260522T144000Z
SUMMARY:Компьютерные сети
LOCATION:ГЗ 175
END:VEVENT
END:VCALENDAR