BEGIN:VCALENDAR
VERSION:2.0
PRODID:-//spbstu.ru//ical//RU
NAME:Расписание группы 5131001/30502
X-WR-CALNAME:Расписание группы 5131001/30502
TIMEZONE-ID:Europe/Moscow
X-WR-TIMEZONE:Europe/Moscow
BEGIN:VEVENT
UID:waa8@192.168.245.71:3006
SEQUENCE:0
DTSTAMP:20260422T121654Z
DTSTART:20260216T050000Z
DTEND:20260216T064000Z
SUMMARY:Формальные грамматики и теория компиляторов
LOCATION:ГЗ 105
END:VEVENT
BEGIN:VEVENT
UID:qbt3@192.168.245.71:3006
SEQUENCE:0
DTSTAMP:20260422T121654Z
DTSTART:20260216T070000Z
DTEND:20260216T084000Z
SUMMARY:Стандарты информационной безопасности
LOCATION:ГЗ 105
END:VEVENT
BEGIN:VEVENT
UID:pwo2@192.168.245.71:3006
SEQUENCE:0
DTSTAMP:20260422T121654Z
DTSTART:20260216T110000Z
DTEND:20260216T124000Z
SUMMARY:Формальные грамматики и теория компиляторов
LOCATION:ГЗ 215
END:VEVENT
BEGIN:VEVENT
UID:dfrg@192.168.245.71:3006
SEQUENCE:0
DTSTAMP:20260422T121654Z
DTSTART:20260216T130000Z
DTEND:20260216T144000Z
SUMMARY:Безопасность современных информационных технологий
LOCATION:ГЗ 122
END:VEVENT
BEGIN:VEVENT
UID:sfid@192.168.245.71:3006
SEQUENCE:0
DTSTAMP:20260422T121654Z
DTSTART:20260216T144000Z
DTEND:20260216T152000Z
SUMMARY:Компьютерные сети
LOCATION:ГЗ 175
END:VEVENT
BEGIN:VEVENT
UID:wt5c@192.168.245.71:3006
SEQUENCE:0
DTSTAMP:20260422T121654Z
DTSTART:20260216T152000Z
DTEND:20260216T164000Z
SUMMARY:Компьютерные сети
LOCATION:ГЗ 175
END:VEVENT
BEGIN:VEVENT
UID:t7dx@192.168.245.71:3006
SEQUENCE:0
DTSTAMP:20260422T121654Z
DTSTART:20260217T070000Z
DTEND:20260217T084000Z
SUMMARY:Компьютерные сети
LOCATION:ГЗ 305
END:VEVENT
BEGIN:VEVENT
UID:7b5g@192.168.245.71:3006
SEQUENCE:0
DTSTAMP:20260422T121654Z
DTSTART:20260217T090000Z
DTEND:20260217T104000Z
SUMMARY:Алгебраические основы криптографии
LOCATION:ГЗ 237
END:VEVENT
BEGIN:VEVENT
UID:j9mu@192.168.245.71:3006
SEQUENCE:0
DTSTAMP:20260422T121654Z
DTSTART:20260217T110000Z
DTEND:20260217T124000Z
SUMMARY:Технологии разработки современного программного обеспечения
LOCATION:3 к. 310
END:VEVENT
BEGIN:VEVENT
UID:sx0f@192.168.245.71:3006
SEQUENCE:0
DTSTAMP:20260422T121654Z
DTSTART:20260217T150000Z
DTEND:20260217T164000Z
SUMMARY:Безопасность современных информационных технологий
LOCATION:ГЗ 105
END:VEVENT
BEGIN:VEVENT
UID:prgv@192.168.245.71:3006
SEQUENCE:0
DTSTAMP:20260422T121654Z
DTSTART:20260218T110000Z
DTEND:20260218T124000Z
SUMMARY:Модели безопасности компьютерных систем
LOCATION:3 к. 201
END:VEVENT
BEGIN:VEVENT
UID:2973@192.168.245.71:3006
SEQUENCE:0
DTSTAMP:20260422T121654Z
DTSTART:20260218T130000Z
DTEND:20260218T144000Z
SUMMARY:Стандарты информационной безопасности
LOCATION:3 к. 201
END:VEVENT
BEGIN:VEVENT
UID:rrtd@192.168.245.71:3006
SEQUENCE:0
DTSTAMP:20260422T121654Z
DTSTART:20260218T150000Z
DTEND:20260218T164000Z
SUMMARY:Технологии реверс-инжиниринга программного обеспечения
LOCATION:3 к. 305
END:VEVENT
BEGIN:VEVENT
UID:skrc@192.168.245.71:3006
SEQUENCE:0
DTSTAMP:20260422T121654Z
DTSTART:20260219T053000Z
DTEND:20260219T142000Z
SUMMARY:Военная подготовка
LOCATION:Военная каф. кафедра
END:VEVENT
BEGIN:VEVENT
UID:6tne@192.168.245.71:3006
SEQUENCE:0
DTSTAMP:20260422T121654Z
DTSTART:20260219T150000Z
DTEND:20260219T164000Z
SUMMARY:Теоретико-числовые методы в криптографии
LOCATION:ГЗ 105
END:VEVENT
BEGIN:VEVENT
UID:rrie@192.168.245.71:3006
SEQUENCE:0
DTSTAMP:20260422T121654Z
DTSTART:20260220T070000Z
DTEND:20260220T084000Z
SUMMARY:Алгебраические основы криптографии
LOCATION:3 к. 309
END:VEVENT
BEGIN:VEVENT
UID:naaq@192.168.245.71:3006
SEQUENCE:0
DTSTAMP:20260422T121654Z
DTSTART:20260220T090000Z
DTEND:20260220T104000Z
SUMMARY:Безопасность современных информационных технологий
LOCATION:3 к. 210
END:VEVENT
BEGIN:VEVENT
UID:k3cy@192.168.245.71:3006
SEQUENCE:0
DTSTAMP:20260422T121654Z
DTSTART:20260220T110000Z
DTEND:20260220T124000Z
SUMMARY:Компьютерные сети
LOCATION:ГЗ 175
END:VEVENT
BEGIN:VEVENT
UID:zyzu@192.168.245.71:3006
SEQUENCE:0
DTSTAMP:20260422T121654Z
DTSTART:20260220T130000Z
DTEND:20260220T144000Z
SUMMARY:Модели безопасности компьютерных систем
LOCATION:ГЗ 171
END:VEVENT
BEGIN:VEVENT
UID:xojb@192.168.245.71:3006
SEQUENCE:0
DTSTAMP:20260422T121654Z
DTSTART:20260220T150000Z
DTEND:20260220T164000Z
SUMMARY:Объектно-ориентированное программирование
LOCATION:3 к. 201
END:VEVENT
BEGIN:VEVENT
UID:d2ll@192.168.245.71:3006
SEQUENCE:0
DTSTAMP:20260422T121654Z
DTSTART:20260221T090000Z
DTEND:20260221T104000Z
SUMMARY:Технологии реверс-инжиниринга программного обеспечения
LOCATION:3 к. 215
END:VEVENT
BEGIN:VEVENT
UID:fjzd@192.168.245.71:3006
SEQUENCE:0
DTSTAMP:20260422T121654Z
DTSTART:20260221T110000Z
DTEND:20260221T124000Z
SUMMARY:Технологии реверс-инжиниринга программного обеспечения
LOCATION:3 к. 215
END:VEVENT
END:VCALENDAR