BEGIN:VCALENDAR
VERSION:2.0
PRODID:-//spbstu.ru//ical//RU
NAME:Расписание группы 5131001/30503
X-WR-CALNAME:Расписание группы 5131001/30503
TIMEZONE-ID:Europe/Moscow
X-WR-TIMEZONE:Europe/Moscow
BEGIN:VEVENT
UID:fchh@192.168.245.71:3006
SEQUENCE:0
DTSTAMP:20260423T034141Z
DTSTART:20251215T050000Z
DTEND:20251215T064000Z
SUMMARY:Компьютерные сети
LOCATION:3 к. 205
END:VEVENT
BEGIN:VEVENT
UID:w4sl@192.168.245.71:3006
SEQUENCE:0
DTSTAMP:20260423T034141Z
DTSTART:20251215T070000Z
DTEND:20251215T084000Z
SUMMARY:Объектно-ориентированное программирование
LOCATION:3 к. 208
END:VEVENT
BEGIN:VEVENT
UID:75th@192.168.245.71:3006
SEQUENCE:0
DTSTAMP:20260423T034141Z
DTSTART:20251215T110000Z
DTEND:20251215T124000Z
SUMMARY:Безопасность современных информационных технологий
LOCATION:3 к. 201
END:VEVENT
BEGIN:VEVENT
UID:9wyt@192.168.245.71:3006
SEQUENCE:0
DTSTAMP:20260423T034141Z
DTSTART:20251215T130000Z
DTEND:20251215T144000Z
SUMMARY:Компьютерные сети
LOCATION:3 к. 201
END:VEVENT
BEGIN:VEVENT
UID:3ruz@192.168.245.71:3006
SEQUENCE:0
DTSTAMP:20260423T034141Z
DTSTART:20251216T070000Z
DTEND:20251216T084000Z
SUMMARY:Объектно-ориентированное программирование
LOCATION:ГЗ 329
END:VEVENT
BEGIN:VEVENT
UID:lhaf@192.168.245.71:3006
SEQUENCE:0
DTSTAMP:20260423T034141Z
DTSTART:20251216T090000Z
DTEND:20251216T104000Z
SUMMARY:Теоретико-числовые методы в криптографии
LOCATION:ГЗ 237
END:VEVENT
BEGIN:VEVENT
UID:vmbq@192.168.245.71:3006
SEQUENCE:0
DTSTAMP:20260423T034141Z
DTSTART:20251216T110000Z
DTEND:20251216T124000Z
SUMMARY:Теоретико-числовые методы в криптографии
LOCATION:ГЗ 170 Б
END:VEVENT
BEGIN:VEVENT
UID:tp5a@192.168.245.71:3006
SEQUENCE:0
DTSTAMP:20260423T034141Z
DTSTART:20251216T130000Z
DTEND:20251216T144000Z
SUMMARY:Компьютерные сети
LOCATION:ГЗ 175
END:VEVENT
BEGIN:VEVENT
UID:ksnb@192.168.245.71:3006
SEQUENCE:0
DTSTAMP:20260423T034141Z
DTSTART:20251217T100000Z
DTEND:20251217T112000Z
SUMMARY:Образовательный форсайт
LOCATION:ГЗ 165
END:VEVENT
BEGIN:VEVENT
UID:nxbu@192.168.245.71:3006
SEQUENCE:0
DTSTAMP:20260423T034141Z
DTSTART:20251218T070000Z
DTEND:20251218T102000Z
SUMMARY:Теоретико-числовые методы в криптографии
LOCATION:3 к. 309
END:VEVENT
BEGIN:VEVENT
UID:c0tg@192.168.245.71:3006
SEQUENCE:0
DTSTAMP:20260423T034141Z
DTSTART:20251218T110000Z
DTEND:20251218T142000Z
SUMMARY:Безопасность современных информационных технологий
LOCATION:3 к. 305
END:VEVENT
BEGIN:VEVENT
UID:ivam@192.168.245.71:3006
SEQUENCE:0
DTSTAMP:20260423T034141Z
DTSTART:20251219T070000Z
DTEND:20251219T084000Z
SUMMARY:Объектно-ориентированное программирование
LOCATION:3 к. 201
END:VEVENT
END:VCALENDAR