BEGIN:VCALENDAR
VERSION:2.0
PRODID:-//spbstu.ru//ical//RU
NAME:Расписание группы 5131001/30503
X-WR-CALNAME:Расписание группы 5131001/30503
TIMEZONE-ID:Europe/Moscow
X-WR-TIMEZONE:Europe/Moscow
BEGIN:VEVENT
UID:hun2@192.168.245.71:3006
SEQUENCE:0
DTSTAMP:20260420T221254Z
DTSTART:20260420T090000Z
DTEND:20260420T104000Z
SUMMARY:Формальные грамматики и теория компиляторов
LOCATION:ГЗ 170 А
END:VEVENT
BEGIN:VEVENT
UID:0oes@192.168.245.71:3006
SEQUENCE:0
DTSTAMP:20260420T221254Z
DTSTART:20260420T110000Z
DTEND:20260420T124000Z
SUMMARY:Формальные грамматики и теория компиляторов
LOCATION:ГЗ 215
END:VEVENT
BEGIN:VEVENT
UID:7g5j@192.168.245.71:3006
SEQUENCE:0
DTSTAMP:20260420T221254Z
DTSTART:20260420T130000Z
DTEND:20260420T144000Z
SUMMARY:Безопасность современных информационных технологий
LOCATION:ГЗ 122
END:VEVENT
BEGIN:VEVENT
UID:ksxf@192.168.245.71:3006
SEQUENCE:0
DTSTAMP:20260420T221254Z
DTSTART:20260421T070000Z
DTEND:20260421T084000Z
SUMMARY:Компьютерные сети
LOCATION:ГЗ 305
END:VEVENT
BEGIN:VEVENT
UID:e8yh@192.168.245.71:3006
SEQUENCE:0
DTSTAMP:20260420T221254Z
DTSTART:20260421T090000Z
DTEND:20260421T104000Z
SUMMARY:Алгебраические основы криптографии
LOCATION:ГЗ 237
END:VEVENT
BEGIN:VEVENT
UID:kmna@192.168.245.71:3006
SEQUENCE:0
DTSTAMP:20260420T221254Z
DTSTART:20260421T110000Z
DTEND:20260421T124000Z
SUMMARY:Алгебраические основы криптографии
LOCATION:3 к. 305
END:VEVENT
BEGIN:VEVENT
UID:27gh@192.168.245.71:3006
SEQUENCE:0
DTSTAMP:20260420T221254Z
DTSTART:20260422T070000Z
DTEND:20260422T084000Z
SUMMARY:Алгебраические основы криптографии
LOCATION:3 к. 309
END:VEVENT
BEGIN:VEVENT
UID:h2by@192.168.245.71:3006
SEQUENCE:0
DTSTAMP:20260420T221254Z
DTSTART:20260422T090000Z
DTEND:20260422T104000Z
SUMMARY:Технологии разработки современного программного обеспечения
LOCATION:3 к. 210
END:VEVENT
BEGIN:VEVENT
UID:ohdr@192.168.245.71:3006
SEQUENCE:0
DTSTAMP:20260420T221254Z
DTSTART:20260422T110000Z
DTEND:20260422T124000Z
SUMMARY:Модели безопасности компьютерных систем
LOCATION:3 к. 201
END:VEVENT
BEGIN:VEVENT
UID:161w@192.168.245.71:3006
SEQUENCE:0
DTSTAMP:20260420T221254Z
DTSTART:20260422T130000Z
DTEND:20260422T144000Z
SUMMARY:Технологии разработки современного программного обеспечения
LOCATION:3 к. 201
END:VEVENT
BEGIN:VEVENT
UID:yw02@192.168.245.71:3006
SEQUENCE:0
DTSTAMP:20260420T221254Z
DTSTART:20260423T053000Z
DTEND:20260423T142000Z
SUMMARY:Военная подготовка
LOCATION:Военная каф. кафедра
END:VEVENT
BEGIN:VEVENT
UID:y53s@192.168.245.71:3006
SEQUENCE:0
DTSTAMP:20260420T221254Z
DTSTART:20260424T070000Z
DTEND:20260424T084000Z
SUMMARY:Компьютерные сети
LOCATION:ГЗ 175
END:VEVENT
BEGIN:VEVENT
UID:0btn@192.168.245.71:3006
SEQUENCE:0
DTSTAMP:20260420T221254Z
DTSTART:20260424T090000Z
DTEND:20260424T104000Z
SUMMARY:Стандарты информационной безопасности
LOCATION:3 к. 404а
END:VEVENT
BEGIN:VEVENT
UID:q02w@192.168.245.71:3006
SEQUENCE:0
DTSTAMP:20260420T221254Z
DTSTART:20260424T110000Z
DTEND:20260424T124000Z
SUMMARY:Модели безопасности компьютерных систем
LOCATION:3 к. 404
END:VEVENT
BEGIN:VEVENT
UID:4nyw@192.168.245.71:3006
SEQUENCE:0
DTSTAMP:20260420T221254Z
DTSTART:20260424T130000Z
DTEND:20260424T144000Z
SUMMARY:Безопасность современных информационных технологий
LOCATION:3 к. 210
END:VEVENT
END:VCALENDAR