BEGIN:VCALENDAR
VERSION:2.0
PRODID:-//spbstu.ru//ical//RU
NAME:Расписание группы 5132704/30502
X-WR-CALNAME:Расписание группы 5132704/30502
TIMEZONE-ID:Europe/Moscow
X-WR-TIMEZONE:Europe/Moscow
BEGIN:VEVENT
UID:k2ks@192.168.245.71:3006
SEQUENCE:0
DTSTAMP:20260424T220845Z
DTSTART:20251013T090000Z
DTEND:20251013T104000Z
SUMMARY:Сети и телекоммуникации
LOCATION:16 к. 310
END:VEVENT
BEGIN:VEVENT
UID:4lx1@192.168.245.71:3006
SEQUENCE:0
DTSTAMP:20260424T220845Z
DTSTART:20251013T130000Z
DTEND:20251013T144000Z
SUMMARY:Микропроцессоры и микроконтроллеры в системах управления
LOCATION:16 к. 414
END:VEVENT
BEGIN:VEVENT
UID:hjwx@192.168.245.71:3006
SEQUENCE:0
DTSTAMP:20260424T220845Z
DTSTART:20251014T053000Z
DTEND:20251014T142000Z
SUMMARY:Военная подготовка
LOCATION:Военная каф. кафедра
END:VEVENT
BEGIN:VEVENT
UID:kmpq@192.168.245.71:3006
SEQUENCE:0
DTSTAMP:20260424T220845Z
DTSTART:20251015T070000Z
DTEND:20251015T084000Z
SUMMARY:Автоматизация экспериментальных исследований
LOCATION:16 к. 414
END:VEVENT
BEGIN:VEVENT
UID:x8p3@192.168.245.71:3006
SEQUENCE:0
DTSTAMP:20260424T220845Z
DTSTART:20251015T090000Z
DTEND:20251015T104000Z
SUMMARY:Автоматизация экспериментальных исследований
LOCATION:16 к. 310
END:VEVENT
BEGIN:VEVENT
UID:wmoj@192.168.245.71:3006
SEQUENCE:0
DTSTAMP:20260424T220845Z
DTSTART:20251015T130000Z
DTEND:20251015T144000Z
SUMMARY:Операционные системы
LOCATION:DL Дистанционно
END:VEVENT
BEGIN:VEVENT
UID:o8db@192.168.245.71:3006
SEQUENCE:0
DTSTAMP:20260424T220845Z
DTSTART:20251016T090000Z
DTEND:20251016T104000Z
SUMMARY:Теория вероятностей и математическая статистика
LOCATION:DL Дистанционно
END:VEVENT
BEGIN:VEVENT
UID:0c2z@192.168.245.71:3006
SEQUENCE:0
DTSTAMP:20260424T220845Z
DTSTART:20251017T070000Z
DTEND:20251017T084000Z
SUMMARY:Микропроцессоры и микроконтроллеры в системах управления
LOCATION:16 к. 310
END:VEVENT
BEGIN:VEVENT
UID:jrkw@192.168.245.71:3006
SEQUENCE:0
DTSTAMP:20260424T220845Z
DTSTART:20251017T090000Z
DTEND:20251017T104000Z
SUMMARY:Сети и телекоммуникации
LOCATION:16 к. 414
END:VEVENT
BEGIN:VEVENT
UID:x5za@192.168.245.71:3006
SEQUENCE:0
DTSTAMP:20260424T220845Z
DTSTART:20251017T130000Z
DTEND:20251017T144000Z
SUMMARY:Метрология\, стандартизация и сертификация
LOCATION:16 к. 414
END:VEVENT
BEGIN:VEVENT
UID:p89o@192.168.245.71:3006
SEQUENCE:0
DTSTAMP:20260424T220845Z
DTSTART:20251018T053000Z
DTEND:20251018T075900Z
SUMMARY:Военная подготовка
LOCATION:Военная каф. кафедра
END:VEVENT
END:VCALENDAR