BEGIN:VCALENDAR
VERSION:2.0
PRODID:-//spbstu.ru//ical//RU
NAME:Расписание группы 5132704/30502
X-WR-CALNAME:Расписание группы 5132704/30502
TIMEZONE-ID:Europe/Moscow
X-WR-TIMEZONE:Europe/Moscow
BEGIN:VEVENT
UID:5tbn@192.168.245.71:3006
SEQUENCE:0
DTSTAMP:20260423T143401Z
DTSTART:20251222T130000Z
DTEND:20251222T144000Z
SUMMARY:Сети и телекоммуникации
LOCATION:16 к. 414
END:VEVENT
BEGIN:VEVENT
UID:kal0@192.168.245.71:3006
SEQUENCE:0
DTSTAMP:20260423T143401Z
DTSTART:20251224T090000Z
DTEND:20251224T160000Z
SUMMARY:Сети и телекоммуникации
LOCATION:16 к. 310
END:VEVENT
BEGIN:VEVENT
UID:wvtf@192.168.245.71:3006
SEQUENCE:0
DTSTAMP:20260423T143401Z
DTSTART:20251226T130000Z
DTEND:20251226T144000Z
SUMMARY:Микропроцессоры и микроконтроллеры в системах управления
LOCATION:DL Дистанционно
END:VEVENT
BEGIN:VEVENT
UID:e0qk@192.168.245.71:3006
SEQUENCE:0
DTSTAMP:20260423T143401Z
DTSTART:20251227T070000Z
DTEND:20251227T140000Z
SUMMARY:Микропроцессоры и микроконтроллеры в системах управления
LOCATION:16 к. 313
END:VEVENT
END:VCALENDAR