BEGIN:VCALENDAR
VERSION:2.0
PRODID:-//spbstu.ru//ical//RU
NAME:Расписание группы 5132704/30502
X-WR-CALNAME:Расписание группы 5132704/30502
TIMEZONE-ID:Europe/Moscow
X-WR-TIMEZONE:Europe/Moscow
BEGIN:VEVENT
UID:17bb@192.168.245.71:3006
SEQUENCE:0
DTSTAMP:20260421T135148Z
DTSTART:20260330T090000Z
DTEND:20260330T104000Z
SUMMARY:Идентификация систем
LOCATION:16 к. 414
END:VEVENT
BEGIN:VEVENT
UID:r37b@192.168.245.71:3006
SEQUENCE:0
DTSTAMP:20260421T135148Z
DTSTART:20260330T110000Z
DTEND:20260330T124000Z
SUMMARY:Идентификация систем
LOCATION:16 к. 310
END:VEVENT
BEGIN:VEVENT
UID:necb@192.168.245.71:3006
SEQUENCE:0
DTSTAMP:20260421T135148Z
DTSTART:20260330T153000Z
DTEND:20260330T171000Z
SUMMARY:Теория автоматического управления
LOCATION:DL Дистанционно
END:VEVENT
BEGIN:VEVENT
UID:pmhk@192.168.245.71:3006
SEQUENCE:0
DTSTAMP:20260421T135148Z
DTSTART:20260331T053000Z
DTEND:20260331T142000Z
SUMMARY:Военная подготовка
LOCATION:Военная каф. кафедра
END:VEVENT
BEGIN:VEVENT
UID:r85z@192.168.245.71:3006
SEQUENCE:0
DTSTAMP:20260421T135148Z
DTSTART:20260401T130000Z
DTEND:20260401T144000Z
SUMMARY:Проектная работа
LOCATION:16 к. 414
END:VEVENT
BEGIN:VEVENT
UID:tnr9@192.168.245.71:3006
SEQUENCE:0
DTSTAMP:20260421T135148Z
DTSTART:20260402T070000Z
DTEND:20260402T084000Z
SUMMARY:Современная промышленная электроника
LOCATION:16 к. 317
END:VEVENT
BEGIN:VEVENT
UID:0xnj@192.168.245.71:3006
SEQUENCE:0
DTSTAMP:20260421T135148Z
DTSTART:20260402T090000Z
DTEND:20260402T104000Z
SUMMARY:Теория автоматического управления
LOCATION:16 к. 418
END:VEVENT
BEGIN:VEVENT
UID:ibsq@192.168.245.71:3006
SEQUENCE:0
DTSTAMP:20260421T135148Z
DTSTART:20260402T130000Z
DTEND:20260402T144000Z
SUMMARY:Современная промышленная электроника
LOCATION:16 к. 414
END:VEVENT
BEGIN:VEVENT
UID:opdm@192.168.245.71:3006
SEQUENCE:0
DTSTAMP:20260421T135148Z
DTSTART:20260403T090000Z
DTEND:20260403T104000Z
SUMMARY:Методы анализа и синтеза интеллектуальных систем
LOCATION:16 к. 414
END:VEVENT
BEGIN:VEVENT
UID:yrsa@192.168.245.71:3006
SEQUENCE:0
DTSTAMP:20260421T135148Z
DTSTART:20260403T130000Z
DTEND:20260403T144000Z
SUMMARY:Методы анализа и синтеза интеллектуальных систем
LOCATION:16 к. 418
END:VEVENT
END:VCALENDAR