BEGIN:VCALENDAR
VERSION:2.0
PRODID:-//spbstu.ru//ical//RU
NAME:Расписание группы 5132704/30801
X-WR-CALNAME:Расписание группы 5132704/30801
TIMEZONE-ID:Europe/Moscow
X-WR-TIMEZONE:Europe/Moscow
BEGIN:VEVENT
UID:1w04@192.168.245.71:3006
SEQUENCE:0
DTSTAMP:20260423T214052Z
DTSTART:20260117T100000Z
DTEND:20260117T124000Z
SUMMARY:Программная инженерия
LOCATION:16 к. 309
END:VEVENT
END:VCALENDAR