BEGIN:VCALENDAR
VERSION:2.0
PRODID:-//spbstu.ru//ical//RU
NAME:Расписание группы 5132704/30801
X-WR-CALNAME:Расписание группы 5132704/30801
TIMEZONE-ID:Europe/Moscow
X-WR-TIMEZONE:Europe/Moscow
BEGIN:VEVENT
UID:dia2@192.168.245.71:3006
SEQUENCE:0
DTSTAMP:20260423T140058Z
DTSTART:20260202T070000Z
DTEND:20260202T084000Z
SUMMARY:Идентификация систем
LOCATION:16 к. 310
END:VEVENT
BEGIN:VEVENT
UID:b9da@192.168.245.71:3006
SEQUENCE:0
DTSTAMP:20260423T140058Z
DTSTART:20260202T090000Z
DTEND:20260202T104000Z
SUMMARY:Идентификация систем
LOCATION:16 к. 414
END:VEVENT
BEGIN:VEVENT
UID:fp01@192.168.245.71:3006
SEQUENCE:0
DTSTAMP:20260423T140058Z
DTSTART:20260202T130000Z
DTEND:20260202T144000Z
SUMMARY:Теория автоматического управления
LOCATION:16 к. 313
END:VEVENT
BEGIN:VEVENT
UID:31r0@192.168.245.71:3006
SEQUENCE:0
DTSTAMP:20260423T140058Z
DTSTART:20260202T153000Z
DTEND:20260202T171000Z
SUMMARY:Теория автоматического управления
LOCATION:DL Дистанционно
END:VEVENT
BEGIN:VEVENT
UID:bcdw@192.168.245.71:3006
SEQUENCE:0
DTSTAMP:20260423T140058Z
DTSTART:20260203T053000Z
DTEND:20260203T142000Z
SUMMARY:Военная подготовка
LOCATION:Военная каф. кафедра
END:VEVENT
BEGIN:VEVENT
UID:0jfn@192.168.245.71:3006
SEQUENCE:0
DTSTAMP:20260423T140058Z
DTSTART:20260203T153000Z
DTEND:20260203T171000Z
SUMMARY:Базы знаний
LOCATION:DL Дистанционно
END:VEVENT
BEGIN:VEVENT
UID:w56v@192.168.245.71:3006
SEQUENCE:0
DTSTAMP:20260423T140058Z
DTSTART:20260204T130000Z
DTEND:20260204T144000Z
SUMMARY:Проектная работа
LOCATION:16 к. 414
END:VEVENT
BEGIN:VEVENT
UID:nsar@192.168.245.71:3006
SEQUENCE:0
DTSTAMP:20260423T140058Z
DTSTART:20260205T130000Z
DTEND:20260205T144000Z
SUMMARY:Современная промышленная электроника
LOCATION:16 к. 414
END:VEVENT
BEGIN:VEVENT
UID:lmdn@192.168.245.71:3006
SEQUENCE:0
DTSTAMP:20260423T140058Z
DTSTART:20260205T150000Z
DTEND:20260205T164000Z
SUMMARY:Современная промышленная электроника
LOCATION:16 к. 418
END:VEVENT
BEGIN:VEVENT
UID:ovm3@192.168.245.71:3006
SEQUENCE:0
DTSTAMP:20260423T140058Z
DTSTART:20260206T153000Z
DTEND:20260206T171000Z
SUMMARY:Базы знаний
LOCATION:DL Дистанционно
END:VEVENT
END:VCALENDAR