BEGIN:VCALENDAR
VERSION:2.0
PRODID:-//spbstu.ru//ical//RU
NAME:Расписание группы 5132704/30801
X-WR-CALNAME:Расписание группы 5132704/30801
TIMEZONE-ID:Europe/Moscow
X-WR-TIMEZONE:Europe/Moscow
BEGIN:VEVENT
UID:4ahi@192.168.245.71:3006
SEQUENCE:0
DTSTAMP:20260423T043514Z
DTSTART:20260209T090000Z
DTEND:20260209T104000Z
SUMMARY:Идентификация систем
LOCATION:16 к. 414
END:VEVENT
BEGIN:VEVENT
UID:emcu@192.168.245.71:3006
SEQUENCE:0
DTSTAMP:20260423T043514Z
DTSTART:20260209T110000Z
DTEND:20260209T124000Z
SUMMARY:Идентификация систем
LOCATION:16 к. 315
END:VEVENT
BEGIN:VEVENT
UID:7iq5@192.168.245.71:3006
SEQUENCE:0
DTSTAMP:20260423T043514Z
DTSTART:20260209T130000Z
DTEND:20260209T144000Z
SUMMARY:Теория автоматического управления
LOCATION:16 к. 313
END:VEVENT
BEGIN:VEVENT
UID:7mh9@192.168.245.71:3006
SEQUENCE:0
DTSTAMP:20260423T043514Z
DTSTART:20260209T153000Z
DTEND:20260209T171000Z
SUMMARY:Теория автоматического управления
LOCATION:DL Дистанционно
END:VEVENT
BEGIN:VEVENT
UID:urfl@192.168.245.71:3006
SEQUENCE:0
DTSTAMP:20260423T043514Z
DTSTART:20260210T053000Z
DTEND:20260210T142000Z
SUMMARY:Военная подготовка
LOCATION:Военная каф. кафедра
END:VEVENT
BEGIN:VEVENT
UID:70fr@192.168.245.71:3006
SEQUENCE:0
DTSTAMP:20260423T043514Z
DTSTART:20260210T153000Z
DTEND:20260210T171000Z
SUMMARY:Базы знаний
LOCATION:DL Дистанционно
END:VEVENT
BEGIN:VEVENT
UID:faga@192.168.245.71:3006
SEQUENCE:0
DTSTAMP:20260423T043514Z
DTSTART:20260211T090000Z
DTEND:20260211T104000Z
SUMMARY:Проектная работа
LOCATION:16 к. 309
END:VEVENT
BEGIN:VEVENT
UID:46ns@192.168.245.71:3006
SEQUENCE:0
DTSTAMP:20260423T043514Z
DTSTART:20260212T130000Z
DTEND:20260212T144000Z
SUMMARY:Программная инженерия
LOCATION:16 к. 316
END:VEVENT
BEGIN:VEVENT
UID:75b4@192.168.245.71:3006
SEQUENCE:0
DTSTAMP:20260423T043514Z
DTSTART:20260212T130000Z
DTEND:20260212T144000Z
SUMMARY:Современная промышленная электроника
LOCATION:ГЗ 224
END:VEVENT
BEGIN:VEVENT
UID:t571@192.168.245.71:3006
SEQUENCE:0
DTSTAMP:20260423T043514Z
DTSTART:20260212T150000Z
DTEND:20260212T164000Z
SUMMARY:Современная промышленная электроника
LOCATION:16 к. 418
END:VEVENT
BEGIN:VEVENT
UID:1z2z@192.168.245.71:3006
SEQUENCE:0
DTSTAMP:20260423T043514Z
DTSTART:20260213T130000Z
DTEND:20260213T144000Z
SUMMARY:Метрология\, стандартизация и сертификация
LOCATION:16 к. 311
END:VEVENT
BEGIN:VEVENT
UID:bgzk@192.168.245.71:3006
SEQUENCE:0
DTSTAMP:20260423T043514Z
DTSTART:20260213T153000Z
DTEND:20260213T171000Z
SUMMARY:Базы знаний
LOCATION:DL Дистанционно
END:VEVENT
END:VCALENDAR