BEGIN:VCALENDAR
VERSION:2.0
PRODID:-//spbstu.ru//ical//RU
NAME:Расписание группы 5151001/30201
X-WR-CALNAME:Расписание группы 5151001/30201
TIMEZONE-ID:Europe/Moscow
X-WR-TIMEZONE:Europe/Moscow
BEGIN:VEVENT
UID:y468@192.168.245.71:3006
SEQUENCE:0
DTSTAMP:20260425T025841Z
DTSTART:20251117T090000Z
DTEND:20251117T104000Z
SUMMARY:Объектно-ориентированное программирование
LOCATION:3 к. 208
END:VEVENT
BEGIN:VEVENT
UID:pv0k@192.168.245.71:3006
SEQUENCE:0
DTSTAMP:20260425T025841Z
DTSTART:20251117T110000Z
DTEND:20251117T124000Z
SUMMARY:Безопасность современных информационных технологий
LOCATION:3 к. 201
END:VEVENT
BEGIN:VEVENT
UID:0g1u@192.168.245.71:3006
SEQUENCE:0
DTSTAMP:20260425T025841Z
DTSTART:20251117T130000Z
DTEND:20251117T144000Z
SUMMARY:Компьютерные сети
LOCATION:3 к. 201
END:VEVENT
BEGIN:VEVENT
UID:br37@192.168.245.71:3006
SEQUENCE:0
DTSTAMP:20260425T025841Z
DTSTART:20251118T070000Z
DTEND:20251118T084000Z
SUMMARY:Объектно-ориентированное программирование
LOCATION:ГЗ 329
END:VEVENT
BEGIN:VEVENT
UID:5slg@192.168.245.71:3006
SEQUENCE:0
DTSTAMP:20260425T025841Z
DTSTART:20251118T090000Z
DTEND:20251118T104000Z
SUMMARY:Теоретико-числовые методы в криптографии
LOCATION:ГЗ 237
END:VEVENT
BEGIN:VEVENT
UID:4i0r@192.168.245.71:3006
SEQUENCE:0
DTSTAMP:20260425T025841Z
DTSTART:20251118T110000Z
DTEND:20251118T124000Z
SUMMARY:Компьютерные сети
LOCATION:ГЗ 175
END:VEVENT
BEGIN:VEVENT
UID:g5j7@192.168.245.71:3006
SEQUENCE:0
DTSTAMP:20260425T025841Z
DTSTART:20251118T130000Z
DTEND:20251118T144000Z
SUMMARY:Теоретико-числовые методы в криптографии
LOCATION:ГЗ 170 Б
END:VEVENT
BEGIN:VEVENT
UID:4n9d@192.168.245.71:3006
SEQUENCE:0
DTSTAMP:20260425T025841Z
DTSTART:20251119T090000Z
DTEND:20251119T104000Z
SUMMARY:Технологии реверс-инжиниринга программного обеспечения
LOCATION:3 к. 215
END:VEVENT
BEGIN:VEVENT
UID:f0rr@192.168.245.71:3006
SEQUENCE:0
DTSTAMP:20260425T025841Z
DTSTART:20251120T052000Z
DTEND:20251120T125000Z
SUMMARY:Военная подготовка
LOCATION:Военная каф. кафедра
END:VEVENT
BEGIN:VEVENT
UID:h2m7@192.168.245.71:3006
SEQUENCE:0
DTSTAMP:20260425T025841Z
DTSTART:20251121T070000Z
DTEND:20251121T084000Z
SUMMARY:Технологии реверс-инжиниринга программного обеспечения
LOCATION:3 к. 504
END:VEVENT
BEGIN:VEVENT
UID:okz0@192.168.245.71:3006
SEQUENCE:0
DTSTAMP:20260425T025841Z
DTSTART:20251121T090000Z
DTEND:20251121T104000Z
SUMMARY:Безопасность современных информационных технологий
LOCATION:3 к. 204
END:VEVENT
BEGIN:VEVENT
UID:s0v2@192.168.245.71:3006
SEQUENCE:0
DTSTAMP:20260425T025841Z
DTSTART:20251121T110000Z
DTEND:20251121T124000Z
SUMMARY:Организационное и правовое обеспечение информационной безопасности
LOCATION:3 к. 511
END:VEVENT
BEGIN:VEVENT
UID:o1st@192.168.245.71:3006
SEQUENCE:0
DTSTAMP:20260425T025841Z
DTSTART:20251122T053000Z
DTEND:20251122T144000Z
SUMMARY:Военная подготовка
LOCATION:Военная каф. кафедра
END:VEVENT
END:VCALENDAR