BEGIN:VCALENDAR
VERSION:2.0
PRODID:-//spbstu.ru//ical//RU
NAME:Расписание группы 5151001/30201
X-WR-CALNAME:Расписание группы 5151001/30201
TIMEZONE-ID:Europe/Moscow
X-WR-TIMEZONE:Europe/Moscow
BEGIN:VEVENT
UID:5lx3@192.168.245.71:3006
SEQUENCE:0
DTSTAMP:20260423T045100Z
DTSTART:20260112T070000Z
DTEND:20260112T075000Z
SUMMARY:Безопасность современных информационных технологий
LOCATION:ГЗ 235
END:VEVENT
BEGIN:VEVENT
UID:sixj@192.168.245.71:3006
SEQUENCE:0
DTSTAMP:20260423T045100Z
DTSTART:20260112T080000Z
DTEND:20260112T124000Z
SUMMARY:Безопасность современных информационных технологий
LOCATION:ГЗ 235
END:VEVENT
BEGIN:VEVENT
UID:353s@192.168.245.71:3006
SEQUENCE:0
DTSTAMP:20260423T045100Z
DTSTART:20260114T130000Z
DTEND:20260114T144000Z
SUMMARY:Теоретико-числовые методы в криптографии
LOCATION:ГЗ 165
END:VEVENT
BEGIN:VEVENT
UID:tbo1@192.168.245.71:3006
SEQUENCE:0
DTSTAMP:20260423T045100Z
DTSTART:20260115T080000Z
DTEND:20260115T124000Z
SUMMARY:Теоретико-числовые методы в криптографии
LOCATION:ГЗ 165
END:VEVENT
BEGIN:VEVENT
UID:766z@192.168.245.71:3006
SEQUENCE:0
DTSTAMP:20260423T045100Z
DTSTART:20260116T130000Z
DTEND:20260116T144000Z
SUMMARY:Объектно-ориентированное программирование
LOCATION:3 к. 305
END:VEVENT
END:VCALENDAR