BEGIN:VCALENDAR
VERSION:2.0
PRODID:-//spbstu.ru//ical//RU
NAME:Расписание группы 5151001/30201
X-WR-CALNAME:Расписание группы 5151001/30201
TIMEZONE-ID:Europe/Moscow
X-WR-TIMEZONE:Europe/Moscow
BEGIN:VEVENT
UID:2wi5@192.168.245.71:3006
SEQUENCE:0
DTSTAMP:20260422T081851Z
DTSTART:20260224T070000Z
DTEND:20260224T084000Z
SUMMARY:Компьютерные сети
LOCATION:ГЗ 305
END:VEVENT
BEGIN:VEVENT
UID:k435@192.168.245.71:3006
SEQUENCE:0
DTSTAMP:20260422T081851Z
DTSTART:20260224T090000Z
DTEND:20260224T104000Z
SUMMARY:Алгебраические основы криптографии
LOCATION:ГЗ 237
END:VEVENT
BEGIN:VEVENT
UID:5ok3@192.168.245.71:3006
SEQUENCE:0
DTSTAMP:20260422T081851Z
DTSTART:20260224T110000Z
DTEND:20260224T134000Z
SUMMARY:Алгебраические основы криптографии
LOCATION:ГЗ 152
END:VEVENT
BEGIN:VEVENT
UID:b5dv@192.168.245.71:3006
SEQUENCE:0
DTSTAMP:20260422T081851Z
DTSTART:20260224T130000Z
DTEND:20260224T144000Z
SUMMARY:Теоретико-числовые методы в криптографии
LOCATION:ГЗ 170 Б
END:VEVENT
BEGIN:VEVENT
UID:bxy5@192.168.245.71:3006
SEQUENCE:0
DTSTAMP:20260422T081851Z
DTSTART:20260225T090000Z
DTEND:20260225T104000Z
SUMMARY:Стандарты информационной безопасности
LOCATION:3 к. 405
END:VEVENT
BEGIN:VEVENT
UID:zugt@192.168.245.71:3006
SEQUENCE:0
DTSTAMP:20260422T081851Z
DTSTART:20260225T110000Z
DTEND:20260225T124000Z
SUMMARY:Модели безопасности компьютерных систем
LOCATION:3 к. 201
END:VEVENT
BEGIN:VEVENT
UID:0s9y@192.168.245.71:3006
SEQUENCE:0
DTSTAMP:20260422T081851Z
DTSTART:20260225T130000Z
DTEND:20260225T144000Z
SUMMARY:Технологии разработки современного программного обеспечения
LOCATION:3 к. 201
END:VEVENT
BEGIN:VEVENT
UID:pt4s@192.168.245.71:3006
SEQUENCE:0
DTSTAMP:20260422T081851Z
DTSTART:20260225T150000Z
DTEND:20260225T164000Z
SUMMARY:Объектно-ориентированное программирование
LOCATION:3 к. 205
END:VEVENT
BEGIN:VEVENT
UID:9kp9@192.168.245.71:3006
SEQUENCE:0
DTSTAMP:20260422T081851Z
DTSTART:20260226T053000Z
DTEND:20260226T130000Z
SUMMARY:Военная подготовка
LOCATION:Военная каф. кафедра
END:VEVENT
BEGIN:VEVENT
UID:3l56@192.168.245.71:3006
SEQUENCE:0
DTSTAMP:20260422T081851Z
DTSTART:20260227T070000Z
DTEND:20260227T084000Z
SUMMARY:Модели безопасности компьютерных систем
LOCATION:3 к. 206
END:VEVENT
BEGIN:VEVENT
UID:skxi@192.168.245.71:3006
SEQUENCE:0
DTSTAMP:20260422T081851Z
DTSTART:20260227T090000Z
DTEND:20260227T104000Z
SUMMARY:Компьютерные сети
LOCATION:ГЗ 175
END:VEVENT
BEGIN:VEVENT
UID:8dqg@192.168.245.71:3006
SEQUENCE:0
DTSTAMP:20260422T081851Z
DTSTART:20260227T110000Z
DTEND:20260227T124000Z
SUMMARY:Безопасность современных информационных технологий
LOCATION:3 к. 210
END:VEVENT
BEGIN:VEVENT
UID:ikd0@192.168.245.71:3006
SEQUENCE:0
DTSTAMP:20260422T081851Z
DTSTART:20260227T130000Z
DTEND:20260227T144000Z
SUMMARY:Образовательный форсайт
LOCATION:ГЗ 173
END:VEVENT
BEGIN:VEVENT
UID:h35k@192.168.245.71:3006
SEQUENCE:0
DTSTAMP:20260422T081851Z
DTSTART:20260227T130000Z
DTEND:20260227T144000Z
SUMMARY:Формальные грамматики и теория компиляторов
LOCATION:ГЗ 165
END:VEVENT
END:VCALENDAR