BEGIN:VCALENDAR
VERSION:2.0
PRODID:-//spbstu.ru//ical//RU
NAME:Расписание группы 5151001/30201
X-WR-CALNAME:Расписание группы 5151001/30201
TIMEZONE-ID:Europe/Moscow
X-WR-TIMEZONE:Europe/Moscow
BEGIN:VEVENT
UID:2hnk@192.168.245.71:3006
SEQUENCE:0
DTSTAMP:20260421T185724Z
DTSTART:20260330T090000Z
DTEND:20260330T104000Z
SUMMARY:Технологии разработки современного программного обеспечения
LOCATION:ГЗ 165
END:VEVENT
BEGIN:VEVENT
UID:55pt@192.168.245.71:3006
SEQUENCE:0
DTSTAMP:20260421T185724Z
DTSTART:20260330T110000Z
DTEND:20260330T124000Z
SUMMARY:Формальные грамматики и теория компиляторов
LOCATION:ГЗ 215
END:VEVENT
BEGIN:VEVENT
UID:gchy@192.168.245.71:3006
SEQUENCE:0
DTSTAMP:20260421T185724Z
DTSTART:20260330T130000Z
DTEND:20260330T144000Z
SUMMARY:Безопасность современных информационных технологий
LOCATION:ГЗ 122
END:VEVENT
BEGIN:VEVENT
UID:k4ft@192.168.245.71:3006
SEQUENCE:0
DTSTAMP:20260421T185724Z
DTSTART:20260331T070000Z
DTEND:20260331T084000Z
SUMMARY:Компьютерные сети
LOCATION:ГЗ 305
END:VEVENT
BEGIN:VEVENT
UID:a3wo@192.168.245.71:3006
SEQUENCE:0
DTSTAMP:20260421T185724Z
DTSTART:20260331T090000Z
DTEND:20260331T104000Z
SUMMARY:Алгебраические основы криптографии
LOCATION:ГЗ 237
END:VEVENT
BEGIN:VEVENT
UID:2lth@192.168.245.71:3006
SEQUENCE:0
DTSTAMP:20260421T185724Z
DTSTART:20260331T110000Z
DTEND:20260331T134000Z
SUMMARY:Алгебраические основы криптографии
LOCATION:ГЗ 152
END:VEVENT
BEGIN:VEVENT
UID:tgze@192.168.245.71:3006
SEQUENCE:0
DTSTAMP:20260421T185724Z
DTSTART:20260401T090000Z
DTEND:20260401T104000Z
SUMMARY:Стандарты информационной безопасности
LOCATION:3 к. 405
END:VEVENT
BEGIN:VEVENT
UID:75i0@192.168.245.71:3006
SEQUENCE:0
DTSTAMP:20260421T185724Z
DTSTART:20260401T110000Z
DTEND:20260401T124000Z
SUMMARY:Модели безопасности компьютерных систем
LOCATION:3 к. 201
END:VEVENT
BEGIN:VEVENT
UID:skka@192.168.245.71:3006
SEQUENCE:0
DTSTAMP:20260421T185724Z
DTSTART:20260401T130000Z
DTEND:20260401T144000Z
SUMMARY:Стандарты информационной безопасности
LOCATION:3 к. 201
END:VEVENT
BEGIN:VEVENT
UID:8p4k@192.168.245.71:3006
SEQUENCE:0
DTSTAMP:20260421T185724Z
DTSTART:20260402T053000Z
DTEND:20260402T142000Z
SUMMARY:Военная подготовка
LOCATION:Военная каф. кафедра
END:VEVENT
BEGIN:VEVENT
UID:4955@192.168.245.71:3006
SEQUENCE:0
DTSTAMP:20260421T185724Z
DTSTART:20260402T144000Z
DTEND:20260402T150000Z
SUMMARY:Компьютерные сети
LOCATION:ГЗ 173
END:VEVENT
BEGIN:VEVENT
UID:a1yf@192.168.245.71:3006
SEQUENCE:0
DTSTAMP:20260421T185724Z
DTSTART:20260403T070000Z
DTEND:20260403T084000Z
SUMMARY:Модели безопасности компьютерных систем
LOCATION:3 к. 206
END:VEVENT
BEGIN:VEVENT
UID:cgba@192.168.245.71:3006
SEQUENCE:0
DTSTAMP:20260421T185724Z
DTSTART:20260403T090000Z
DTEND:20260403T104000Z
SUMMARY:Компьютерные сети
LOCATION:ГЗ 175
END:VEVENT
BEGIN:VEVENT
UID:0ixh@192.168.245.71:3006
SEQUENCE:0
DTSTAMP:20260421T185724Z
DTSTART:20260403T110000Z
DTEND:20260403T124000Z
SUMMARY:Безопасность современных информационных технологий
LOCATION:3 к. 210
END:VEVENT
BEGIN:VEVENT
UID:xifn@192.168.245.71:3006
SEQUENCE:0
DTSTAMP:20260421T185724Z
DTSTART:20260403T130000Z
DTEND:20260403T144000Z
SUMMARY:Формальные грамматики и теория компиляторов
LOCATION:ГЗ 165
END:VEVENT
BEGIN:VEVENT
UID:xjwa@192.168.245.71:3006
SEQUENCE:0
DTSTAMP:20260421T185724Z
DTSTART:20260403T144000Z
DTEND:20260403T151000Z
SUMMARY:Технологии реверс-инжиниринга программного обеспечения
LOCATION:ГЗ 173
END:VEVENT
BEGIN:VEVENT
UID:tjb4@192.168.245.71:3006
SEQUENCE:0
DTSTAMP:20260421T185724Z
DTSTART:20260403T144500Z
DTEND:20260403T151000Z
SUMMARY:Технологии реверс-инжиниринга программного обеспечения
LOCATION:ГЗ 173
END:VEVENT
END:VCALENDAR