BEGIN:VCALENDAR
VERSION:2.0
PRODID:-//spbstu.ru//ical//RU
NAME:Расписание группы 5151001/30201
X-WR-CALNAME:Расписание группы 5151001/30201
TIMEZONE-ID:Europe/Moscow
X-WR-TIMEZONE:Europe/Moscow
BEGIN:VEVENT
UID:d45y@192.168.245.71:3006
SEQUENCE:0
DTSTAMP:20260421T115229Z
DTSTART:20260511T090000Z
DTEND:20260511T104000Z
SUMMARY:Технологии разработки современного программного обеспечения
LOCATION:ГЗ 165
END:VEVENT
BEGIN:VEVENT
UID:a424@192.168.245.71:3006
SEQUENCE:0
DTSTAMP:20260421T115229Z
DTSTART:20260511T110000Z
DTEND:20260511T124000Z
SUMMARY:Формальные грамматики и теория компиляторов
LOCATION:ГЗ 215
END:VEVENT
BEGIN:VEVENT
UID:ywys@192.168.245.71:3006
SEQUENCE:0
DTSTAMP:20260421T115229Z
DTSTART:20260511T130000Z
DTEND:20260511T144000Z
SUMMARY:Безопасность современных информационных технологий
LOCATION:ГЗ 122
END:VEVENT
BEGIN:VEVENT
UID:ohbh@192.168.245.71:3006
SEQUENCE:0
DTSTAMP:20260421T115229Z
DTSTART:20260512T070000Z
DTEND:20260512T084000Z
SUMMARY:Компьютерные сети
LOCATION:ГЗ 305
END:VEVENT
BEGIN:VEVENT
UID:c15r@192.168.245.71:3006
SEQUENCE:0
DTSTAMP:20260421T115229Z
DTSTART:20260512T090000Z
DTEND:20260512T104000Z
SUMMARY:Алгебраические основы криптографии
LOCATION:ГЗ 237
END:VEVENT
BEGIN:VEVENT
UID:jp9o@192.168.245.71:3006
SEQUENCE:0
DTSTAMP:20260421T115229Z
DTSTART:20260512T110000Z
DTEND:20260512T130000Z
SUMMARY:Алгебраические основы криптографии
LOCATION:ГЗ 152
END:VEVENT
BEGIN:VEVENT
UID:e0ro@192.168.245.71:3006
SEQUENCE:0
DTSTAMP:20260421T115229Z
DTSTART:20260513T090000Z
DTEND:20260513T104000Z
SUMMARY:Стандарты информационной безопасности
LOCATION:3 к. 405
END:VEVENT
BEGIN:VEVENT
UID:4qbz@192.168.245.71:3006
SEQUENCE:0
DTSTAMP:20260421T115229Z
DTSTART:20260513T110000Z
DTEND:20260513T124000Z
SUMMARY:Модели безопасности компьютерных систем
LOCATION:3 к. 201
END:VEVENT
BEGIN:VEVENT
UID:m9i4@192.168.245.71:3006
SEQUENCE:0
DTSTAMP:20260421T115229Z
DTSTART:20260513T130000Z
DTEND:20260513T144000Z
SUMMARY:Стандарты информационной безопасности
LOCATION:3 к. 201
END:VEVENT
BEGIN:VEVENT
UID:rmiw@192.168.245.71:3006
SEQUENCE:0
DTSTAMP:20260421T115229Z
DTSTART:20260514T053000Z
DTEND:20260514T142000Z
SUMMARY:Военная подготовка
LOCATION:Военная каф. кафедра
END:VEVENT
BEGIN:VEVENT
UID:i3mt@192.168.245.71:3006
SEQUENCE:0
DTSTAMP:20260421T115229Z
DTSTART:20260515T070000Z
DTEND:20260515T084000Z
SUMMARY:Модели безопасности компьютерных систем
LOCATION:3 к. 206
END:VEVENT
BEGIN:VEVENT
UID:qldw@192.168.245.71:3006
SEQUENCE:0
DTSTAMP:20260421T115229Z
DTSTART:20260515T090000Z
DTEND:20260515T104000Z
SUMMARY:Компьютерные сети
LOCATION:ГЗ 175
END:VEVENT
BEGIN:VEVENT
UID:u7t9@192.168.245.71:3006
SEQUENCE:0
DTSTAMP:20260421T115229Z
DTSTART:20260515T110000Z
DTEND:20260515T124000Z
SUMMARY:Безопасность современных информационных технологий
LOCATION:3 к. 210
END:VEVENT
BEGIN:VEVENT
UID:qxzk@192.168.245.71:3006
SEQUENCE:0
DTSTAMP:20260421T115229Z
DTSTART:20260515T130000Z
DTEND:20260515T144000Z
SUMMARY:Формальные грамматики и теория компиляторов
LOCATION:ГЗ 165
END:VEVENT
END:VCALENDAR