BEGIN:VCALENDAR
VERSION:2.0
PRODID:-//spbstu.ru//ical//RU
NAME:Расписание группы 5151001/30202
X-WR-CALNAME:Расписание группы 5151001/30202
TIMEZONE-ID:Europe/Moscow
X-WR-TIMEZONE:Europe/Moscow
BEGIN:VEVENT
UID:57fy@192.168.245.71:3006
SEQUENCE:0
DTSTAMP:20260425T041612Z
DTSTART:20251013T070000Z
DTEND:20251013T084000Z
SUMMARY:Технологии реверс-инжиниринга программного обеспечения
LOCATION:3 к. 204
END:VEVENT
BEGIN:VEVENT
UID:q2wx@192.168.245.71:3006
SEQUENCE:0
DTSTAMP:20260425T041612Z
DTSTART:20251013T090000Z
DTEND:20251013T104000Z
SUMMARY:Организационное и правовое обеспечение информационной безопасности
LOCATION:3 к. 209
END:VEVENT
BEGIN:VEVENT
UID:1esf@192.168.245.71:3006
SEQUENCE:0
DTSTAMP:20260425T041612Z
DTSTART:20251013T110000Z
DTEND:20251013T124000Z
SUMMARY:Безопасность современных информационных технологий
LOCATION:3 к. 201
END:VEVENT
BEGIN:VEVENT
UID:7z9v@192.168.245.71:3006
SEQUENCE:0
DTSTAMP:20260425T041612Z
DTSTART:20251013T130000Z
DTEND:20251013T144000Z
SUMMARY:Компьютерные сети
LOCATION:3 к. 201
END:VEVENT
BEGIN:VEVENT
UID:7f99@192.168.245.71:3006
SEQUENCE:0
DTSTAMP:20260425T041612Z
DTSTART:20251014T090000Z
DTEND:20251014T104000Z
SUMMARY:Теоретико-числовые методы в криптографии
LOCATION:ГЗ 237
END:VEVENT
BEGIN:VEVENT
UID:357b@192.168.245.71:3006
SEQUENCE:0
DTSTAMP:20260425T041612Z
DTSTART:20251015T070000Z
DTEND:20251015T084000Z
SUMMARY:Организационное и правовое обеспечение информационной безопасности
LOCATION:3 к. 215
END:VEVENT
BEGIN:VEVENT
UID:1mmb@192.168.245.71:3006
SEQUENCE:0
DTSTAMP:20260425T041612Z
DTSTART:20251015T090000Z
DTEND:20251015T104000Z
SUMMARY:Технологии реверс-инжиниринга программного обеспечения
LOCATION:3 к. 215
END:VEVENT
BEGIN:VEVENT
UID:ghwt@192.168.245.71:3006
SEQUENCE:0
DTSTAMP:20260425T041612Z
DTSTART:20251015T110000Z
DTEND:20251015T124000Z
SUMMARY:Компьютерные сети
LOCATION:ГЗ 175
END:VEVENT
BEGIN:VEVENT
UID:nf46@192.168.245.71:3006
SEQUENCE:0
DTSTAMP:20260425T041612Z
DTSTART:20251015T130000Z
DTEND:20251015T144000Z
SUMMARY:Безопасность современных информационных технологий
LOCATION:ГЗ 170 А
END:VEVENT
BEGIN:VEVENT
UID:i51u@192.168.245.71:3006
SEQUENCE:0
DTSTAMP:20260425T041612Z
DTSTART:20251016T052000Z
DTEND:20251016T125000Z
SUMMARY:Военная подготовка
LOCATION:Военная каф. кафедра
END:VEVENT
BEGIN:VEVENT
UID:s4s6@192.168.245.71:3006
SEQUENCE:0
DTSTAMP:20260425T041612Z
DTSTART:20251017T050000Z
DTEND:20251017T064000Z
SUMMARY:Компьютерные сети
LOCATION:ГЗ 175
END:VEVENT
BEGIN:VEVENT
UID:tpk6@192.168.245.71:3006
SEQUENCE:0
DTSTAMP:20260425T041612Z
DTSTART:20251017T070000Z
DTEND:20251017T084000Z
SUMMARY:Теоретико-числовые методы в криптографии
LOCATION:3 к. 211
END:VEVENT
BEGIN:VEVENT
UID:em47@192.168.245.71:3006
SEQUENCE:0
DTSTAMP:20260425T041612Z
DTSTART:20251017T090000Z
DTEND:20251017T104000Z
SUMMARY:Объектно-ориентированное программирование
LOCATION:3 к. 205
END:VEVENT
BEGIN:VEVENT
UID:25lz@192.168.245.71:3006
SEQUENCE:0
DTSTAMP:20260425T041612Z
DTSTART:20251018T053000Z
DTEND:20251018T144000Z
SUMMARY:Военная подготовка
LOCATION:Военная каф. кафедра
END:VEVENT
END:VCALENDAR