BEGIN:VCALENDAR
VERSION:2.0
PRODID:-//spbstu.ru//ical//RU
NAME:Расписание группы 5151001/30202
X-WR-CALNAME:Расписание группы 5151001/30202
TIMEZONE-ID:Europe/Moscow
X-WR-TIMEZONE:Europe/Moscow
BEGIN:VEVENT
UID:jdz0@192.168.245.71:3006
SEQUENCE:0
DTSTAMP:20260421T083726Z
DTSTART:20260406T070000Z
DTEND:20260406T084000Z
SUMMARY:Технологии разработки современного программного обеспечения
LOCATION:3 к. 305
END:VEVENT
BEGIN:VEVENT
UID:41tc@192.168.245.71:3006
SEQUENCE:0
DTSTAMP:20260421T083726Z
DTSTART:20260406T090000Z
DTEND:20260406T104000Z
SUMMARY:Модели безопасности компьютерных систем
LOCATION:3 к. 307
END:VEVENT
BEGIN:VEVENT
UID:x2ak@192.168.245.71:3006
SEQUENCE:0
DTSTAMP:20260421T083726Z
DTSTART:20260406T110000Z
DTEND:20260406T124000Z
SUMMARY:Формальные грамматики и теория компиляторов
LOCATION:ГЗ 215
END:VEVENT
BEGIN:VEVENT
UID:ft0c@192.168.245.71:3006
SEQUENCE:0
DTSTAMP:20260421T083726Z
DTSTART:20260406T130000Z
DTEND:20260406T144000Z
SUMMARY:Безопасность современных информационных технологий
LOCATION:ГЗ 122
END:VEVENT
BEGIN:VEVENT
UID:urss@192.168.245.71:3006
SEQUENCE:0
DTSTAMP:20260421T083726Z
DTSTART:20260407T070000Z
DTEND:20260407T084000Z
SUMMARY:Компьютерные сети
LOCATION:ГЗ 305
END:VEVENT
BEGIN:VEVENT
UID:k0bn@192.168.245.71:3006
SEQUENCE:0
DTSTAMP:20260421T083726Z
DTSTART:20260407T090000Z
DTEND:20260407T104000Z
SUMMARY:Алгебраические основы криптографии
LOCATION:ГЗ 237
END:VEVENT
BEGIN:VEVENT
UID:eaq3@192.168.245.71:3006
SEQUENCE:0
DTSTAMP:20260421T083726Z
DTSTART:20260407T110000Z
DTEND:20260407T124000Z
SUMMARY:Стандарты информационной безопасности
LOCATION:ГЗ 108
END:VEVENT
BEGIN:VEVENT
UID:drc1@192.168.245.71:3006
SEQUENCE:0
DTSTAMP:20260421T083726Z
DTSTART:20260407T130000Z
DTEND:20260407T144000Z
SUMMARY:Компьютерные сети
LOCATION:ГЗ 175
END:VEVENT
BEGIN:VEVENT
UID:39ew@192.168.245.71:3006
SEQUENCE:0
DTSTAMP:20260421T083726Z
DTSTART:20260407T144000Z
DTEND:20260407T152000Z
SUMMARY:Объектно-ориентированное программирование
LOCATION:ГЗ 173
END:VEVENT
BEGIN:VEVENT
UID:hezq@192.168.245.71:3006
SEQUENCE:0
DTSTAMP:20260421T083726Z
DTSTART:20260408T075000Z
DTEND:20260408T104000Z
SUMMARY:Алгебраические основы криптографии
LOCATION:ГЗ 105
END:VEVENT
BEGIN:VEVENT
UID:4vm0@192.168.245.71:3006
SEQUENCE:0
DTSTAMP:20260421T083726Z
DTSTART:20260408T110000Z
DTEND:20260408T124000Z
SUMMARY:Модели безопасности компьютерных систем
LOCATION:3 к. 201
END:VEVENT
BEGIN:VEVENT
UID:39jm@192.168.245.71:3006
SEQUENCE:0
DTSTAMP:20260421T083726Z
DTSTART:20260408T130000Z
DTEND:20260408T144000Z
SUMMARY:Технологии разработки современного программного обеспечения
LOCATION:3 к. 201
END:VEVENT
BEGIN:VEVENT
UID:d7bo@192.168.245.71:3006
SEQUENCE:0
DTSTAMP:20260421T083726Z
DTSTART:20260409T053000Z
DTEND:20260409T142000Z
SUMMARY:Военная подготовка
LOCATION:Военная каф. кафедра
END:VEVENT
BEGIN:VEVENT
UID:u2os@192.168.245.71:3006
SEQUENCE:0
DTSTAMP:20260421T083726Z
DTSTART:20260410T070000Z
DTEND:20260410T084000Z
SUMMARY:Формальные грамматики и теория компиляторов
LOCATION:ГЗ 171
END:VEVENT
BEGIN:VEVENT
UID:fgfy@192.168.245.71:3006
SEQUENCE:0
DTSTAMP:20260421T083726Z
DTSTART:20260410T110000Z
DTEND:20260410T124000Z
SUMMARY:Безопасность современных информационных технологий
LOCATION:3 к. 207
END:VEVENT
BEGIN:VEVENT
UID:s0xl@192.168.245.71:3006
SEQUENCE:0
DTSTAMP:20260421T083726Z
DTSTART:20260410T144000Z
DTEND:20260410T151000Z
SUMMARY:Безопасность современных информационных технологий
LOCATION:ГЗ 173
END:VEVENT
END:VCALENDAR