BEGIN:VCALENDAR
VERSION:2.0
PRODID:-//spbstu.ru//ical//RU
NAME:Расписание группы 5151003/30801
X-WR-CALNAME:Расписание группы 5151003/30801
TIMEZONE-ID:Europe/Moscow
X-WR-TIMEZONE:Europe/Moscow
BEGIN:VEVENT
UID:vr65@192.168.245.71:3006
SEQUENCE:0
DTSTAMP:20260426T025151Z
DTSTART:20251124T070000Z
DTEND:20251124T084000Z
SUMMARY:Организационное и правовое обеспечение информационной безопасности
LOCATION:3 к. 205
END:VEVENT
BEGIN:VEVENT
UID:2364@192.168.245.71:3006
SEQUENCE:0
DTSTAMP:20260426T025151Z
DTSTART:20251124T090000Z
DTEND:20251124T104000Z
SUMMARY:Технологии реверс-инжиниринга программного обеспечения
LOCATION:3 к. 207
END:VEVENT
BEGIN:VEVENT
UID:1zt8@192.168.245.71:3006
SEQUENCE:0
DTSTAMP:20260426T025151Z
DTSTART:20251124T110000Z
DTEND:20251124T124000Z
SUMMARY:Безопасность современных информационных технологий
LOCATION:3 к. 201
END:VEVENT
BEGIN:VEVENT
UID:fbko@192.168.245.71:3006
SEQUENCE:0
DTSTAMP:20260426T025151Z
DTSTART:20251124T130000Z
DTEND:20251124T144000Z
SUMMARY:Компьютерные сети
LOCATION:3 к. 201
END:VEVENT
BEGIN:VEVENT
UID:ow7l@192.168.245.71:3006
SEQUENCE:0
DTSTAMP:20260426T025151Z
DTSTART:20251125T070000Z
DTEND:20251125T084000Z
SUMMARY:Объектно-ориентированное программирование
LOCATION:ГЗ 329
END:VEVENT
BEGIN:VEVENT
UID:4xbx@192.168.245.71:3006
SEQUENCE:0
DTSTAMP:20260426T025151Z
DTSTART:20251125T090000Z
DTEND:20251125T104000Z
SUMMARY:Теоретико-числовые методы в криптографии
LOCATION:ГЗ 237
END:VEVENT
BEGIN:VEVENT
UID:emk5@192.168.245.71:3006
SEQUENCE:0
DTSTAMP:20260426T025151Z
DTSTART:20251126T070000Z
DTEND:20251126T084000Z
SUMMARY:Организационное и правовое обеспечение информационной безопасности
LOCATION:3 к. 215
END:VEVENT
BEGIN:VEVENT
UID:a408@192.168.245.71:3006
SEQUENCE:0
DTSTAMP:20260426T025151Z
DTSTART:20251126T090000Z
DTEND:20251126T104000Z
SUMMARY:Технологии реверс-инжиниринга программного обеспечения
LOCATION:3 к. 215
END:VEVENT
BEGIN:VEVENT
UID:f9fg@192.168.245.71:3006
SEQUENCE:0
DTSTAMP:20260426T025151Z
DTSTART:20251126T110000Z
DTEND:20251126T124000Z
SUMMARY:Безопасность современных информационных технологий
LOCATION:ГЗ 170 А
END:VEVENT
BEGIN:VEVENT
UID:n39f@192.168.245.71:3006
SEQUENCE:0
DTSTAMP:20260426T025151Z
DTSTART:20251126T130000Z
DTEND:20251126T144000Z
SUMMARY:Компьютерные сети
LOCATION:ГЗ 175
END:VEVENT
BEGIN:VEVENT
UID:h8l5@192.168.245.71:3006
SEQUENCE:0
DTSTAMP:20260426T025151Z
DTSTART:20251127T052000Z
DTEND:20251127T125000Z
SUMMARY:Военная подготовка
LOCATION:Военная каф. кафедра
END:VEVENT
BEGIN:VEVENT
UID:y7e7@192.168.245.71:3006
SEQUENCE:0
DTSTAMP:20260426T025151Z
DTSTART:20251128T070000Z
DTEND:20251128T084000Z
SUMMARY:Объектно-ориентированное программирование
LOCATION:3 к. 206
END:VEVENT
BEGIN:VEVENT
UID:7rwq@192.168.245.71:3006
SEQUENCE:0
DTSTAMP:20260426T025151Z
DTSTART:20251128T090000Z
DTEND:20251128T104000Z
SUMMARY:Теоретико-числовые методы в криптографии
LOCATION:3 к. 211
END:VEVENT
BEGIN:VEVENT
UID:qk4b@192.168.245.71:3006
SEQUENCE:0
DTSTAMP:20260426T025151Z
DTSTART:20251128T110000Z
DTEND:20251128T124000Z
SUMMARY:Теоретико-числовые методы в криптографии
LOCATION:3 к. 211
END:VEVENT
BEGIN:VEVENT
UID:mw1o@192.168.245.71:3006
SEQUENCE:0
DTSTAMP:20260426T025151Z
DTSTART:20251129T053000Z
DTEND:20251129T144000Z
SUMMARY:Военная подготовка
LOCATION:Военная каф. кафедра
END:VEVENT
END:VCALENDAR