BEGIN:VCALENDAR
VERSION:2.0
PRODID:-//spbstu.ru//ical//RU
NAME:Расписание группы 5151003/30801
X-WR-CALNAME:Расписание группы 5151003/30801
TIMEZONE-ID:Europe/Moscow
X-WR-TIMEZONE:Europe/Moscow
BEGIN:VEVENT
UID:z7n0@192.168.245.71:3006
SEQUENCE:0
DTSTAMP:20260421T082348Z
DTSTART:20260427T070000Z
DTEND:20260427T084000Z
SUMMARY:Модели безопасности компьютерных систем
LOCATION:3 к. 307
END:VEVENT
BEGIN:VEVENT
UID:ziqf@192.168.245.71:3006
SEQUENCE:0
DTSTAMP:20260421T082348Z
DTSTART:20260427T090000Z
DTEND:20260427T104000Z
SUMMARY:Технологии разработки современного программного обеспечения
LOCATION:3 к. 305
END:VEVENT
BEGIN:VEVENT
UID:kwj8@192.168.245.71:3006
SEQUENCE:0
DTSTAMP:20260421T082348Z
DTSTART:20260427T110000Z
DTEND:20260427T124000Z
SUMMARY:Формальные грамматики и теория компиляторов
LOCATION:ГЗ 215
END:VEVENT
BEGIN:VEVENT
UID:myuh@192.168.245.71:3006
SEQUENCE:0
DTSTAMP:20260421T082348Z
DTSTART:20260427T130000Z
DTEND:20260427T144000Z
SUMMARY:Безопасность современных информационных технологий
LOCATION:ГЗ 122
END:VEVENT
BEGIN:VEVENT
UID:2dj5@192.168.245.71:3006
SEQUENCE:0
DTSTAMP:20260421T082348Z
DTSTART:20260428T070000Z
DTEND:20260428T084000Z
SUMMARY:Компьютерные сети
LOCATION:ГЗ 305
END:VEVENT
BEGIN:VEVENT
UID:3a09@192.168.245.71:3006
SEQUENCE:0
DTSTAMP:20260421T082348Z
DTSTART:20260428T090000Z
DTEND:20260428T104000Z
SUMMARY:Алгебраические основы криптографии
LOCATION:ГЗ 237
END:VEVENT
BEGIN:VEVENT
UID:rde5@192.168.245.71:3006
SEQUENCE:0
DTSTAMP:20260421T082348Z
DTSTART:20260428T110000Z
DTEND:20260428T124000Z
SUMMARY:Компьютерные сети
LOCATION:ГЗ 175
END:VEVENT
BEGIN:VEVENT
UID:jepo@192.168.245.71:3006
SEQUENCE:0
DTSTAMP:20260421T082348Z
DTSTART:20260428T130000Z
DTEND:20260428T144000Z
SUMMARY:Стандарты информационной безопасности
LOCATION:ГЗ 108
END:VEVENT
BEGIN:VEVENT
UID:m6sf@192.168.245.71:3006
SEQUENCE:0
DTSTAMP:20260421T082348Z
DTSTART:20260429T070000Z
DTEND:20260429T084000Z
SUMMARY:Формальные грамматики и теория компиляторов
LOCATION:ГЗ 171
END:VEVENT
BEGIN:VEVENT
UID:ok4b@192.168.245.71:3006
SEQUENCE:0
DTSTAMP:20260421T082348Z
DTSTART:20260429T110000Z
DTEND:20260429T124000Z
SUMMARY:Модели безопасности компьютерных систем
LOCATION:3 к. 201
END:VEVENT
BEGIN:VEVENT
UID:ttxu@192.168.245.71:3006
SEQUENCE:0
DTSTAMP:20260421T082348Z
DTSTART:20260429T130000Z
DTEND:20260429T144000Z
SUMMARY:Стандарты информационной безопасности
LOCATION:3 к. 201
END:VEVENT
BEGIN:VEVENT
UID:zxur@192.168.245.71:3006
SEQUENCE:0
DTSTAMP:20260421T082348Z
DTSTART:20260430T053000Z
DTEND:20260430T142000Z
SUMMARY:Военная подготовка
LOCATION:Военная каф. кафедра
END:VEVENT
END:VCALENDAR