BEGIN:VCALENDAR
VERSION:2.0
PRODID:-//spbstu.ru//ical//RU
NAME:Расписание группы 5151003/30802
X-WR-CALNAME:Расписание группы 5151003/30802
TIMEZONE-ID:Europe/Moscow
X-WR-TIMEZONE:Europe/Moscow
BEGIN:VEVENT
UID:5uc7@192.168.245.71:3006
SEQUENCE:0
DTSTAMP:20260426T023951Z
DTSTART:20251006T070000Z
DTEND:20251006T084000Z
SUMMARY:Компьютерные сети
LOCATION:ГЗ 175
END:VEVENT
BEGIN:VEVENT
UID:sml7@192.168.245.71:3006
SEQUENCE:0
DTSTAMP:20260426T023951Z
DTSTART:20251006T090000Z
DTEND:20251006T104000Z
SUMMARY:Безопасность современных информационных технологий
LOCATION:ГЗ 170 А
END:VEVENT
BEGIN:VEVENT
UID:o69i@192.168.245.71:3006
SEQUENCE:0
DTSTAMP:20260426T023951Z
DTSTART:20251006T110000Z
DTEND:20251006T124000Z
SUMMARY:Безопасность современных информационных технологий
LOCATION:3 к. 201
END:VEVENT
BEGIN:VEVENT
UID:f875@192.168.245.71:3006
SEQUENCE:0
DTSTAMP:20260426T023951Z
DTSTART:20251006T130000Z
DTEND:20251006T144000Z
SUMMARY:Компьютерные сети
LOCATION:3 к. 201
END:VEVENT
BEGIN:VEVENT
UID:godj@192.168.245.71:3006
SEQUENCE:0
DTSTAMP:20260426T023951Z
DTSTART:20251007T070000Z
DTEND:20251007T084000Z
SUMMARY:Объектно-ориентированное программирование
LOCATION:ГЗ 329
END:VEVENT
BEGIN:VEVENT
UID:xiy3@192.168.245.71:3006
SEQUENCE:0
DTSTAMP:20260426T023951Z
DTSTART:20251007T090000Z
DTEND:20251007T104000Z
SUMMARY:Теоретико-числовые методы в криптографии
LOCATION:ГЗ 237
END:VEVENT
BEGIN:VEVENT
UID:b18y@192.168.245.71:3006
SEQUENCE:0
DTSTAMP:20260426T023951Z
DTSTART:20251008T090000Z
DTEND:20251008T104000Z
SUMMARY:Технологии реверс-инжиниринга программного обеспечения
LOCATION:3 к. 215
END:VEVENT
BEGIN:VEVENT
UID:9u3b@192.168.245.71:3006
SEQUENCE:0
DTSTAMP:20260426T023951Z
DTSTART:20251008T110000Z
DTEND:20251008T124000Z
SUMMARY:Технологии реверс-инжиниринга программного обеспечения
LOCATION:3 к. 204
END:VEVENT
BEGIN:VEVENT
UID:fct3@192.168.245.71:3006
SEQUENCE:0
DTSTAMP:20260426T023951Z
DTSTART:20251008T130000Z
DTEND:20251008T144000Z
SUMMARY:Организационное и правовое обеспечение информационной безопасности
LOCATION:3 к. 205
END:VEVENT
BEGIN:VEVENT
UID:bgc1@192.168.245.71:3006
SEQUENCE:0
DTSTAMP:20260426T023951Z
DTSTART:20251009T052000Z
DTEND:20251009T125000Z
SUMMARY:Военная подготовка
LOCATION:Военная каф. кафедра
END:VEVENT
BEGIN:VEVENT
UID:lgqx@192.168.245.71:3006
SEQUENCE:0
DTSTAMP:20260426T023951Z
DTSTART:20251010T090000Z
DTEND:20251010T104000Z
SUMMARY:Теоретико-числовые методы в криптографии
LOCATION:3 к. 210
END:VEVENT
BEGIN:VEVENT
UID:eqsl@192.168.245.71:3006
SEQUENCE:0
DTSTAMP:20260426T023951Z
DTSTART:20251010T110000Z
DTEND:20251010T124000Z
SUMMARY:Теоретико-числовые методы в криптографии
LOCATION:3 к. 210
END:VEVENT
BEGIN:VEVENT
UID:2s5g@192.168.245.71:3006
SEQUENCE:0
DTSTAMP:20260426T023951Z
DTSTART:20251010T130000Z
DTEND:20251010T144000Z
SUMMARY:Объектно-ориентированное программирование
LOCATION:3 к. 207
END:VEVENT
BEGIN:VEVENT
UID:2tc7@192.168.245.71:3006
SEQUENCE:0
DTSTAMP:20260426T023951Z
DTSTART:20251011T053000Z
DTEND:20251011T144000Z
SUMMARY:Военная подготовка
LOCATION:Военная каф. кафедра
END:VEVENT
END:VCALENDAR