BEGIN:VCALENDAR
VERSION:2.0
PRODID:-//spbstu.ru//ical//RU
NAME:Расписание группы 5151003/30802
X-WR-CALNAME:Расписание группы 5151003/30802
TIMEZONE-ID:Europe/Moscow
X-WR-TIMEZONE:Europe/Moscow
BEGIN:VEVENT
UID:88jc@192.168.245.71:3006
SEQUENCE:0
DTSTAMP:20260422T180239Z
DTSTART:20260119T130000Z
DTEND:20260119T144000Z
SUMMARY:Объектно-ориентированное программирование
LOCATION:3 к. 305
END:VEVENT
BEGIN:VEVENT
UID:2e5c@192.168.245.71:3006
SEQUENCE:0
DTSTAMP:20260422T180239Z
DTSTART:20260120T070000Z
DTEND:20260120T124000Z
SUMMARY:Объектно-ориентированное программирование
LOCATION:3 к. 305
END:VEVENT
BEGIN:VEVENT
UID:mc6j@192.168.245.71:3006
SEQUENCE:0
DTSTAMP:20260422T180239Z
DTSTART:20260121T070000Z
DTEND:20260121T084000Z
SUMMARY:Технологии реверс-инжиниринга программного обеспечения
LOCATION:ГЗ 175
END:VEVENT
BEGIN:VEVENT
UID:e22n@192.168.245.71:3006
SEQUENCE:0
DTSTAMP:20260422T180239Z
DTSTART:20260122T070000Z
DTEND:20260122T084000Z
SUMMARY:Технологии реверс-инжиниринга программного обеспечения
LOCATION:ГЗ 175
END:VEVENT
END:VCALENDAR