BEGIN:VCALENDAR
VERSION:2.0
PRODID:-//spbstu.ru//ical//RU
NAME:Расписание группы 5151004/30101
X-WR-CALNAME:Расписание группы 5151004/30101
TIMEZONE-ID:Europe/Moscow
X-WR-TIMEZONE:Europe/Moscow
BEGIN:VEVENT
UID:tpdf@192.168.245.71:3006
SEQUENCE:0
DTSTAMP:20260423T205749Z
DTSTART:20251229T110000Z
DTEND:20251229T124000Z
SUMMARY:Организационное и правовое обеспечение информационной безопасности
LOCATION:3 к. 504
END:VEVENT
END:VCALENDAR