BEGIN:VCALENDAR
VERSION:2.0
PRODID:-//spbstu.ru//ical//RU
NAME:Расписание группы 5130201/20101
X-WR-CALNAME:Расписание группы 5130201/20101
TIMEZONE-ID:Europe/Moscow
X-WR-TIMEZONE:Europe/Moscow
BEGIN:VEVENT
UID:lse6@192.168.245.71:3006
SEQUENCE:0
DTSTAMP:20260424T081151Z
DTSTART:20251110T090000Z
DTEND:20251110T104000Z
SUMMARY:Архитектура ОС UNIX
LOCATION:4 к. 307
END:VEVENT
BEGIN:VEVENT
UID:r2ci@192.168.245.71:3006
SEQUENCE:0
DTSTAMP:20260424T081151Z
DTSTART:20251110T110000Z
DTEND:20251110T124000Z
SUMMARY:Архитектура ОС UNIX
LOCATION:4 к. 305-2
END:VEVENT
BEGIN:VEVENT
UID:tion@192.168.245.71:3006
SEQUENCE:0
DTSTAMP:20260424T081151Z
DTSTART:20251111T080000Z
DTEND:20251111T085000Z
SUMMARY:Разработка человеко-машинного интерфейса
LOCATION:4 к. 307
END:VEVENT
BEGIN:VEVENT
UID:d7ly@192.168.245.71:3006
SEQUENCE:0
DTSTAMP:20260424T081151Z
DTSTART:20251111T090000Z
DTEND:20251111T104000Z
SUMMARY:Разработка человеко-машинного интерфейса
LOCATION:4 к. 307
END:VEVENT
BEGIN:VEVENT
UID:xx74@192.168.245.71:3006
SEQUENCE:0
DTSTAMP:20260424T081151Z
DTSTART:20251111T110000Z
DTEND:20251111T124000Z
SUMMARY:Технологии разработки ИТ-продуктов
LOCATION:11 к. 319
END:VEVENT
BEGIN:VEVENT
UID:b7y4@192.168.245.71:3006
SEQUENCE:0
DTSTAMP:20260424T081151Z
DTSTART:20251111T130000Z
DTEND:20251111T144000Z
SUMMARY:Введение в квантовые вычисления
LOCATION:4 к. 307
END:VEVENT
BEGIN:VEVENT
UID:ioag@192.168.245.71:3006
SEQUENCE:0
DTSTAMP:20260424T081151Z
DTSTART:20251111T150000Z
DTEND:20251111T155000Z
SUMMARY:Введение в квантовые вычисления
LOCATION:4 к. 307
END:VEVENT
BEGIN:VEVENT
UID:zdfw@192.168.245.71:3006
SEQUENCE:0
DTSTAMP:20260424T081151Z
DTSTART:20251112T053000Z
DTEND:20251112T142000Z
SUMMARY:Военная подготовка
LOCATION:Военная каф. кафедра
END:VEVENT
BEGIN:VEVENT
UID:08km@192.168.245.71:3006
SEQUENCE:0
DTSTAMP:20260424T081151Z
DTSTART:20251113T070000Z
DTEND:20251113T075000Z
SUMMARY:Методы оптимизации
LOCATION:4 к. 305-2
END:VEVENT
BEGIN:VEVENT
UID:063i@192.168.245.71:3006
SEQUENCE:0
DTSTAMP:20260424T081151Z
DTSTART:20251113T080000Z
DTEND:20251113T085000Z
SUMMARY:Методы оптимизации
LOCATION:4 к. 305-2
END:VEVENT
BEGIN:VEVENT
UID:vnyg@192.168.245.71:3006
SEQUENCE:0
DTSTAMP:20260424T081151Z
DTSTART:20251113T090000Z
DTEND:20251113T104000Z
SUMMARY:Архитектура суперкомпьютерных систем
LOCATION:4 к. 305-2
END:VEVENT
BEGIN:VEVENT
UID:svrk@192.168.245.71:3006
SEQUENCE:0
DTSTAMP:20260424T081151Z
DTSTART:20251114T070000Z
DTEND:20251114T084000Z
SUMMARY:Генетические алгоритмы
LOCATION:4 к. 307
END:VEVENT
BEGIN:VEVENT
UID:8uiq@192.168.245.71:3006
SEQUENCE:0
DTSTAMP:20260424T081151Z
DTSTART:20251114T090000Z
DTEND:20251114T095000Z
SUMMARY:Генетические алгоритмы
LOCATION:4 к. 307
END:VEVENT
BEGIN:VEVENT
UID:yl1d@192.168.245.71:3006
SEQUENCE:0
DTSTAMP:20260424T081151Z
DTSTART:20251114T100000Z
DTEND:20251114T105000Z
SUMMARY:Генетические алгоритмы
LOCATION:4 к. 307
END:VEVENT
BEGIN:VEVENT
UID:9ds5@192.168.245.71:3006
SEQUENCE:0
DTSTAMP:20260424T081151Z
DTSTART:20251114T110000Z
DTEND:20251114T124000Z
SUMMARY:Управление проектами
LOCATION:4 к. 307
END:VEVENT
BEGIN:VEVENT
UID:kuq1@192.168.245.71:3006
SEQUENCE:0
DTSTAMP:20260424T081151Z
DTSTART:20251114T130000Z
DTEND:20251114T135000Z
SUMMARY:Управление проектами
LOCATION:4 к. 307
END:VEVENT
END:VCALENDAR