BEGIN:VCALENDAR
VERSION:2.0
PRODID:-//spbstu.ru//ical//RU
NAME:Расписание группы 5130201/20101
X-WR-CALNAME:Расписание группы 5130201/20101
TIMEZONE-ID:Europe/Moscow
X-WR-TIMEZONE:Europe/Moscow
BEGIN:VEVENT
UID:ufrh@192.168.245.71:3006
SEQUENCE:0
DTSTAMP:20260424T133018Z
DTSTART:20251103T090000Z
DTEND:20251103T104000Z
SUMMARY:Архитектура ОС UNIX
LOCATION:4 к. 307
END:VEVENT
BEGIN:VEVENT
UID:oaxo@192.168.245.71:3006
SEQUENCE:0
DTSTAMP:20260424T133018Z
DTSTART:20251103T110000Z
DTEND:20251103T124000Z
SUMMARY:Архитектура ОС UNIX
LOCATION:4 к. 305-2
END:VEVENT
BEGIN:VEVENT
UID:8mby@192.168.245.71:3006
SEQUENCE:0
DTSTAMP:20260424T133018Z
DTSTART:20251105T053000Z
DTEND:20251105T142000Z
SUMMARY:Военная подготовка
LOCATION:Военная каф. кафедра
END:VEVENT
BEGIN:VEVENT
UID:hptd@192.168.245.71:3006
SEQUENCE:0
DTSTAMP:20260424T133018Z
DTSTART:20251106T070000Z
DTEND:20251106T075000Z
SUMMARY:Методы оптимизации
LOCATION:4 к. 305-2
END:VEVENT
BEGIN:VEVENT
UID:oyzk@192.168.245.71:3006
SEQUENCE:0
DTSTAMP:20260424T133018Z
DTSTART:20251106T080000Z
DTEND:20251106T085000Z
SUMMARY:Методы оптимизации
LOCATION:4 к. 305-2
END:VEVENT
BEGIN:VEVENT
UID:6v6g@192.168.245.71:3006
SEQUENCE:0
DTSTAMP:20260424T133018Z
DTSTART:20251106T090000Z
DTEND:20251106T104000Z
SUMMARY:Архитектура суперкомпьютерных систем
LOCATION:4 к. 305-2
END:VEVENT
BEGIN:VEVENT
UID:7nq0@192.168.245.71:3006
SEQUENCE:0
DTSTAMP:20260424T133018Z
DTSTART:20251107T070000Z
DTEND:20251107T084000Z
SUMMARY:Генетические алгоритмы
LOCATION:4 к. 307
END:VEVENT
BEGIN:VEVENT
UID:ey9q@192.168.245.71:3006
SEQUENCE:0
DTSTAMP:20260424T133018Z
DTSTART:20251107T090000Z
DTEND:20251107T095000Z
SUMMARY:Генетические алгоритмы
LOCATION:4 к. 307
END:VEVENT
BEGIN:VEVENT
UID:d60r@192.168.245.71:3006
SEQUENCE:0
DTSTAMP:20260424T133018Z
DTSTART:20251107T100000Z
DTEND:20251107T105000Z
SUMMARY:Генетические алгоритмы
LOCATION:4 к. 307
END:VEVENT
BEGIN:VEVENT
UID:iuj6@192.168.245.71:3006
SEQUENCE:0
DTSTAMP:20260424T133018Z
DTSTART:20251107T110000Z
DTEND:20251107T124000Z
SUMMARY:Управление проектами
LOCATION:4 к. 307
END:VEVENT
BEGIN:VEVENT
UID:ts1g@192.168.245.71:3006
SEQUENCE:0
DTSTAMP:20260424T133018Z
DTSTART:20251107T130000Z
DTEND:20251107T135000Z
SUMMARY:Управление проектами
LOCATION:4 к. 307
END:VEVENT
END:VCALENDAR