BEGIN:VCALENDAR
VERSION:2.0
PRODID:-//spbstu.ru//ical//RU
NAME:Расписание группы 5130201/20101
X-WR-CALNAME:Расписание группы 5130201/20101
TIMEZONE-ID:Europe/Moscow
X-WR-TIMEZONE:Europe/Moscow
BEGIN:VEVENT
UID:mc3x@192.168.245.71:3006
SEQUENCE:0
DTSTAMP:20260421T092249Z
DTSTART:20260421T070000Z
DTEND:20260421T075000Z
SUMMARY:Облачные вычисления
LOCATION:НИК А1.08
END:VEVENT
BEGIN:VEVENT
UID:quf9@192.168.245.71:3006
SEQUENCE:0
DTSTAMP:20260421T092249Z
DTSTART:20260421T080000Z
DTEND:20260421T104000Z
SUMMARY:Облачные вычисления
LOCATION:НИК А1.08
END:VEVENT
BEGIN:VEVENT
UID:alw7@192.168.245.71:3006
SEQUENCE:0
DTSTAMP:20260421T092249Z
DTSTART:20260421T110000Z
DTEND:20260421T124000Z
SUMMARY:Системы искусственного интеллекта
LOCATION:НИК А1.08
END:VEVENT
BEGIN:VEVENT
UID:kpmt@192.168.245.71:3006
SEQUENCE:0
DTSTAMP:20260421T092249Z
DTSTART:20260421T130000Z
DTEND:20260421T144000Z
SUMMARY:Системы искусственного интеллекта
LOCATION:НИК А1.08
END:VEVENT
BEGIN:VEVENT
UID:4vmu@192.168.245.71:3006
SEQUENCE:0
DTSTAMP:20260421T092249Z
DTSTART:20260421T150000Z
DTEND:20260421T155000Z
SUMMARY:Системы искусственного интеллекта
LOCATION:НИК А1.08
END:VEVENT
BEGIN:VEVENT
UID:e800@192.168.245.71:3006
SEQUENCE:0
DTSTAMP:20260421T092249Z
DTSTART:20260422T053000Z
DTEND:20260422T142000Z
SUMMARY:Военная подготовка
LOCATION:Не опр. Нет
END:VEVENT
BEGIN:VEVENT
UID:scdq@192.168.245.71:3006
SEQUENCE:0
DTSTAMP:20260421T092249Z
DTSTART:20260423T070000Z
DTEND:20260423T075000Z
SUMMARY:Методы исследовательской работы
LOCATION:4 к. 305-2
END:VEVENT
BEGIN:VEVENT
UID:v2tg@192.168.245.71:3006
SEQUENCE:0
DTSTAMP:20260421T092249Z
DTSTART:20260423T090000Z
DTEND:20260423T095000Z
SUMMARY:Системы искусственного интеллекта
LOCATION:3 к. 201
END:VEVENT
BEGIN:VEVENT
UID:yhba@192.168.245.71:3006
SEQUENCE:0
DTSTAMP:20260421T092249Z
DTSTART:20260423T110000Z
DTEND:20260423T115000Z
SUMMARY:Защита информации
LOCATION:4 к. 307
END:VEVENT
BEGIN:VEVENT
UID:0i1a@192.168.245.71:3006
SEQUENCE:0
DTSTAMP:20260421T092249Z
DTSTART:20260423T120000Z
DTEND:20260423T125000Z
SUMMARY:Защита информации
LOCATION:4 к. 307
END:VEVENT
BEGIN:VEVENT
UID:jyip@192.168.245.71:3006
SEQUENCE:0
DTSTAMP:20260421T092249Z
DTSTART:20260423T130000Z
DTEND:20260423T144000Z
SUMMARY:Защита информации
LOCATION:4 к. 307
END:VEVENT
BEGIN:VEVENT
UID:sfi5@192.168.245.71:3006
SEQUENCE:0
DTSTAMP:20260421T092249Z
DTSTART:20260423T150000Z
DTEND:20260423T155000Z
SUMMARY:Защита информации
LOCATION:4 к. 307
END:VEVENT
BEGIN:VEVENT
UID:ymm7@192.168.245.71:3006
SEQUENCE:0
DTSTAMP:20260421T092249Z
DTSTART:20260423T160000Z
DTEND:20260423T165000Z
SUMMARY:Защита информации
LOCATION:4 к. 307
END:VEVENT
BEGIN:VEVENT
UID:pusw@192.168.245.71:3006
SEQUENCE:0
DTSTAMP:20260421T092249Z
DTSTART:20260424T070000Z
DTEND:20260424T075000Z
SUMMARY:Курсовое проектирование по программированию генетических алгоритмо
 в
LOCATION:4 к. 305-2
END:VEVENT
BEGIN:VEVENT
UID:y69m@192.168.245.71:3006
SEQUENCE:0
DTSTAMP:20260421T092249Z
DTSTART:20260424T090000Z
DTEND:20260424T104000Z
SUMMARY:Курсовое проектирование по программированию генетических алгоритмо
 в
LOCATION:4 к. 305-2
END:VEVENT
BEGIN:VEVENT
UID:e14p@192.168.245.71:3006
SEQUENCE:0
DTSTAMP:20260421T092249Z
DTSTART:20260424T110000Z
DTEND:20260424T115000Z
SUMMARY:Высокоскоростные сетевые технологии суперкомпьютеров
LOCATION:4 к. 307
END:VEVENT
BEGIN:VEVENT
UID:9g04@192.168.245.71:3006
SEQUENCE:0
DTSTAMP:20260421T092249Z
DTSTART:20260424T120000Z
DTEND:20260424T134000Z
SUMMARY:Высокоскоростные сетевые технологии суперкомпьютеров
LOCATION:4 к. 307
END:VEVENT
BEGIN:VEVENT
UID:xdmq@192.168.245.71:3006
SEQUENCE:0
DTSTAMP:20260421T092249Z
DTSTART:20260424T140000Z
DTEND:20260424T145000Z
SUMMARY:Высокоскоростные сетевые технологии суперкомпьютеров
LOCATION:4 к. 307
END:VEVENT
END:VCALENDAR