BEGIN:VCALENDAR
VERSION:2.0
PRODID:-//spbstu.ru//ical//RU
NAME:Расписание группы 5130202/20201
X-WR-CALNAME:Расписание группы 5130202/20201
TIMEZONE-ID:Europe/Moscow
X-WR-TIMEZONE:Europe/Moscow
BEGIN:VEVENT
UID:a692@192.168.245.71:3006
SEQUENCE:0
DTSTAMP:20260421T070910Z
DTSTART:20260415T053000Z
DTEND:20260415T142000Z
SUMMARY:Военная подготовка
LOCATION:Военная каф. кафедра
END:VEVENT
BEGIN:VEVENT
UID:zk0g@192.168.245.71:3006
SEQUENCE:0
DTSTAMP:20260421T070910Z
DTSTART:20260417T090000Z
DTEND:20260417T104000Z
SUMMARY:Сетевая безопасность (на базе Linux)
LOCATION:3 к. 501
END:VEVENT
BEGIN:VEVENT
UID:idc1@192.168.245.71:3006
SEQUENCE:0
DTSTAMP:20260421T070910Z
DTSTART:20260417T110000Z
DTEND:20260417T124000Z
SUMMARY:Сетевая безопасность (на базе Linux)
LOCATION:3 к. 102
END:VEVENT
END:VCALENDAR