BEGIN:VCALENDAR
VERSION:2.0
PRODID:-//spbstu.ru//ical//RU
NAME:Расписание группы 5130202/20202
X-WR-CALNAME:Расписание группы 5130202/20202
TIMEZONE-ID:Europe/Moscow
X-WR-TIMEZONE:Europe/Moscow
BEGIN:VEVENT
UID:sefj@192.168.245.71:3006
SEQUENCE:0
DTSTAMP:20260423T103109Z
DTSTART:20260120T070000Z
DTEND:20260120T140000Z
SUMMARY:Основы процесса разработки качественного программного продукта и е
 го метрология
LOCATION:3 к. 209
END:VEVENT
BEGIN:VEVENT
UID:t17k@192.168.245.71:3006
SEQUENCE:0
DTSTAMP:20260423T103109Z
DTSTART:20260122T130000Z
DTEND:20260122T144000Z
SUMMARY:Разработка программного обеспечения для моделирования физических п
 роцессов
LOCATION:DL Дистанционно
END:VEVENT
BEGIN:VEVENT
UID:6bxe@192.168.245.71:3006
SEQUENCE:0
DTSTAMP:20260423T103109Z
DTSTART:20260123T070000Z
DTEND:20260123T140000Z
SUMMARY:Разработка программного обеспечения для моделирования физических п
 роцессов
LOCATION:3 к. 209
END:VEVENT
BEGIN:VEVENT
UID:o41b@192.168.245.71:3006
SEQUENCE:0
DTSTAMP:20260423T103109Z
DTSTART:20260124T070000Z
DTEND:20260124T102000Z
SUMMARY:Научно-исследовательская работа
LOCATION:3 к. 105
END:VEVENT
END:VCALENDAR