BEGIN:VCALENDAR
VERSION:2.0
PRODID:-//spbstu.ru//ical//RU
NAME:Расписание группы 5130202/20202
X-WR-CALNAME:Расписание группы 5130202/20202
TIMEZONE-ID:Europe/Moscow
X-WR-TIMEZONE:Europe/Moscow
BEGIN:VEVENT
UID:hjpa@192.168.245.71:3006
SEQUENCE:0
DTSTAMP:20260422T000505Z
DTSTART:20260324T090000Z
DTEND:20260324T104000Z
SUMMARY:Авторское право\, метрология и стандартизация программного обеспеч
 ения
LOCATION:3 к. 215
END:VEVENT
BEGIN:VEVENT
UID:i6vo@192.168.245.71:3006
SEQUENCE:0
DTSTAMP:20260422T000505Z
DTSTART:20260324T110000Z
DTEND:20260324T124000Z
SUMMARY:Разработка программного обеспечения для моделирования физических п
 роцессов
LOCATION:3 к. 216
END:VEVENT
BEGIN:VEVENT
UID:dyjz@192.168.245.71:3006
SEQUENCE:0
DTSTAMP:20260422T000505Z
DTSTART:20260324T130000Z
DTEND:20260324T144000Z
SUMMARY:Технологии разработки качественного программного обеспечения
LOCATION:3 к. 201
END:VEVENT
BEGIN:VEVENT
UID:w3bn@192.168.245.71:3006
SEQUENCE:0
DTSTAMP:20260422T000505Z
DTSTART:20260324T150000Z
DTEND:20260324T164000Z
SUMMARY:Верификация и тестирование программного обеспечения
LOCATION:3 к. 103
END:VEVENT
BEGIN:VEVENT
UID:jzkk@192.168.245.71:3006
SEQUENCE:0
DTSTAMP:20260422T000505Z
DTSTART:20260325T053000Z
DTEND:20260325T142000Z
SUMMARY:Военная подготовка
LOCATION:Военная каф. кафедра
END:VEVENT
BEGIN:VEVENT
UID:t8go@192.168.245.71:3006
SEQUENCE:0
DTSTAMP:20260422T000505Z
DTSTART:20260325T150000Z
DTEND:20260325T160000Z
SUMMARY:Разработка программного обеспечения для моделирования физических п
 роцессов
LOCATION:3 к. 103
END:VEVENT
BEGIN:VEVENT
UID:5ro9@192.168.245.71:3006
SEQUENCE:0
DTSTAMP:20260422T000505Z
DTSTART:20260326T110000Z
DTEND:20260326T124000Z
SUMMARY:Защита информации
LOCATION:3 к. 309
END:VEVENT
BEGIN:VEVENT
UID:5lt0@192.168.245.71:3006
SEQUENCE:0
DTSTAMP:20260422T000505Z
DTSTART:20260326T130000Z
DTEND:20260326T144000Z
SUMMARY:Глубокое обучение
LOCATION:11 к. 148
END:VEVENT
BEGIN:VEVENT
UID:5vlk@192.168.245.71:3006
SEQUENCE:0
DTSTAMP:20260422T000505Z
DTSTART:20260327T090000Z
DTEND:20260327T104000Z
SUMMARY:Сетевая безопасность (на базе Linux)
LOCATION:3 к. 501
END:VEVENT
BEGIN:VEVENT
UID:gie2@192.168.245.71:3006
SEQUENCE:0
DTSTAMP:20260422T000505Z
DTSTART:20260327T110000Z
DTEND:20260327T124000Z
SUMMARY:Защита информации
LOCATION:3 к. 105
END:VEVENT
BEGIN:VEVENT
UID:njo4@192.168.245.71:3006
SEQUENCE:0
DTSTAMP:20260422T000505Z
DTSTART:20260327T130000Z
DTEND:20260327T144000Z
SUMMARY:Сетевая безопасность (на базе Linux)
LOCATION:3 к. 102
END:VEVENT
BEGIN:VEVENT
UID:mszw@192.168.245.71:3006
SEQUENCE:0
DTSTAMP:20260422T000505Z
DTSTART:20260328T070000Z
DTEND:20260328T084000Z
SUMMARY:Защита информации
LOCATION:ГЗ 237
END:VEVENT
BEGIN:VEVENT
UID:u04f@192.168.245.71:3006
SEQUENCE:0
DTSTAMP:20260422T000505Z
DTSTART:20260328T110000Z
DTEND:20260328T124000Z
SUMMARY:Научно-исследовательская работа
LOCATION:3 к. 103
END:VEVENT
END:VCALENDAR