BEGIN:VCALENDAR
VERSION:2.0
PRODID:-//spbstu.ru//ical//RU
NAME:Расписание группы 5130203/20101
X-WR-CALNAME:Расписание группы 5130203/20101
TIMEZONE-ID:Europe/Moscow
X-WR-TIMEZONE:Europe/Moscow
BEGIN:VEVENT
UID:y88j@192.168.245.71:3006
SEQUENCE:0
DTSTAMP:20260425T231237Z
DTSTART:20251201T070000Z
DTEND:20251201T084000Z
SUMMARY:Системы реального времени
LOCATION:11 к. 336
END:VEVENT
BEGIN:VEVENT
UID:z6bb@192.168.245.71:3006
SEQUENCE:0
DTSTAMP:20260425T231237Z
DTSTART:20251201T070000Z
DTEND:20251201T084000Z
SUMMARY:Системы реального времени
LOCATION:11 к. 325
END:VEVENT
BEGIN:VEVENT
UID:gza6@192.168.245.71:3006
SEQUENCE:0
DTSTAMP:20260425T231237Z
DTSTART:20251201T090000Z
DTEND:20251201T104000Z
SUMMARY:Информационная безопасность
LOCATION:11 к. 211
END:VEVENT
BEGIN:VEVENT
UID:zvio@192.168.245.71:3006
SEQUENCE:0
DTSTAMP:20260425T231237Z
DTSTART:20251201T130000Z
DTEND:20251201T144000Z
SUMMARY:Системы реального времени
LOCATION:11 к. 102
END:VEVENT
BEGIN:VEVENT
UID:u6oj@192.168.245.71:3006
SEQUENCE:0
DTSTAMP:20260425T231237Z
DTSTART:20251202T110000Z
DTEND:20251202T124000Z
SUMMARY:Технологии разработки ИТ-продуктов
LOCATION:11 к. 319
END:VEVENT
BEGIN:VEVENT
UID:xdve@192.168.245.71:3006
SEQUENCE:0
DTSTAMP:20260425T231237Z
DTSTART:20251202T130000Z
DTEND:20251202T144000Z
SUMMARY:Информационная безопасность
LOCATION:11 к. 143
END:VEVENT
BEGIN:VEVENT
UID:15sb@192.168.245.71:3006
SEQUENCE:0
DTSTAMP:20260425T231237Z
DTSTART:20251203T053000Z
DTEND:20251203T142000Z
SUMMARY:Военная подготовка
LOCATION:Военная каф. кафедра
END:VEVENT
BEGIN:VEVENT
UID:evr1@192.168.245.71:3006
SEQUENCE:0
DTSTAMP:20260425T231237Z
DTSTART:20251204T070000Z
DTEND:20251204T084000Z
SUMMARY:Разработка человеко-машинного интерфейса
LOCATION:DL Дистанционно
END:VEVENT
BEGIN:VEVENT
UID:mj9v@192.168.245.71:3006
SEQUENCE:0
DTSTAMP:20260425T231237Z
DTSTART:20251204T090000Z
DTEND:20251204T104000Z
SUMMARY:Разработка человеко-машинного интерфейса
LOCATION:DL Дистанционно
END:VEVENT
BEGIN:VEVENT
UID:l24v@192.168.245.71:3006
SEQUENCE:0
DTSTAMP:20260425T231237Z
DTSTART:20251206T070000Z
DTEND:20251206T084000Z
SUMMARY:Администрирование баз данных
LOCATION:DL Дистанционно
END:VEVENT
BEGIN:VEVENT
UID:g061@192.168.245.71:3006
SEQUENCE:0
DTSTAMP:20260425T231237Z
DTSTART:20251206T090000Z
DTEND:20251206T104000Z
SUMMARY:Администрирование баз данных
LOCATION:DL Дистанционно
END:VEVENT
BEGIN:VEVENT
UID:p23b@192.168.245.71:3006
SEQUENCE:0
DTSTAMP:20260425T231237Z
DTSTART:20251206T110000Z
DTEND:20251206T124000Z
SUMMARY:Интеллектуальный анализ данных (на английском языке)
LOCATION:DL Дистанционно
END:VEVENT
BEGIN:VEVENT
UID:yau7@192.168.245.71:3006
SEQUENCE:0
DTSTAMP:20260425T231237Z
DTSTART:20251206T130000Z
DTEND:20251206T144000Z
SUMMARY:Интеллектуальный анализ данных (на английском языке)
LOCATION:DL Дистанционно
END:VEVENT
END:VCALENDAR