BEGIN:VCALENDAR
VERSION:2.0
PRODID:-//spbstu.ru//ical//RU
NAME:Расписание группы 5130203/20101
X-WR-CALNAME:Расписание группы 5130203/20101
TIMEZONE-ID:Europe/Moscow
X-WR-TIMEZONE:Europe/Moscow
BEGIN:VEVENT
UID:fja3@192.168.245.71:3006
SEQUENCE:0
DTSTAMP:20260423T085351Z
DTSTART:20260216T070000Z
DTEND:20260216T075000Z
SUMMARY:Интеллектуальный анализ данных (на английском языке)
LOCATION:DL Дистанционно
END:VEVENT
BEGIN:VEVENT
UID:ob4l@192.168.245.71:3006
SEQUENCE:0
DTSTAMP:20260423T085351Z
DTSTART:20260216T080000Z
DTEND:20260216T085000Z
SUMMARY:Курсовое проектирование по интеллектуальному анализу данных (на ан
 глийском языке)
LOCATION:DL Дистанционно
END:VEVENT
BEGIN:VEVENT
UID:wuam@192.168.245.71:3006
SEQUENCE:0
DTSTAMP:20260423T085351Z
DTSTART:20260216T090000Z
DTEND:20260216T104000Z
SUMMARY:Интеллектуальный анализ данных (на английском языке)
LOCATION:DL Дистанционно
END:VEVENT
BEGIN:VEVENT
UID:y8nm@192.168.245.71:3006
SEQUENCE:0
DTSTAMP:20260423T085351Z
DTSTART:20260216T110000Z
DTEND:20260216T124000Z
SUMMARY:Преддипломная практика
LOCATION:Не опр. База практик
END:VEVENT
BEGIN:VEVENT
UID:why8@192.168.245.71:3006
SEQUENCE:0
DTSTAMP:20260423T085351Z
DTSTART:20260216T130000Z
DTEND:20260216T144000Z
SUMMARY:Интеллектуальный анализ данных (на английском языке)
LOCATION:DL Дистанционно
END:VEVENT
BEGIN:VEVENT
UID:rh0f@192.168.245.71:3006
SEQUENCE:0
DTSTAMP:20260423T085351Z
DTSTART:20260216T150000Z
DTEND:20260216T164000Z
SUMMARY:Интеллектуальный анализ данных (на английском языке)
LOCATION:11 к. 348
END:VEVENT
BEGIN:VEVENT
UID:sg4e@192.168.245.71:3006
SEQUENCE:0
DTSTAMP:20260423T085351Z
DTSTART:20260217T070000Z
DTEND:20260217T084000Z
SUMMARY:Интеллектуальный анализ данных (на английском языке)
LOCATION:DL Дистанционно
END:VEVENT
BEGIN:VEVENT
UID:nw2e@192.168.245.71:3006
SEQUENCE:0
DTSTAMP:20260423T085351Z
DTSTART:20260217T110000Z
DTEND:20260217T124000Z
SUMMARY:Курсовое проектирование по интеллектуальному анализу данных (на ан
 глийском языке)
LOCATION:DL Дистанционно
END:VEVENT
BEGIN:VEVENT
UID:jqv1@192.168.245.71:3006
SEQUENCE:0
DTSTAMP:20260423T085351Z
DTSTART:20260218T053000Z
DTEND:20260218T142000Z
SUMMARY:Военная подготовка
LOCATION:Военная каф. кафедра
END:VEVENT
BEGIN:VEVENT
UID:sc95@192.168.245.71:3006
SEQUENCE:0
DTSTAMP:20260423T085351Z
DTSTART:20260218T080000Z
DTEND:20260218T090000Z
SUMMARY:Научно-исследовательская работа (рассредоточенная)
LOCATION:11 к. 348
END:VEVENT
BEGIN:VEVENT
UID:8e4n@192.168.245.71:3006
SEQUENCE:0
DTSTAMP:20260423T085351Z
DTSTART:20260219T060000Z
DTEND:20260219T065000Z
SUMMARY:Оптимизация программного обеспечения баз данных
LOCATION:11 к. 216
END:VEVENT
BEGIN:VEVENT
UID:392g@192.168.245.71:3006
SEQUENCE:0
DTSTAMP:20260423T085351Z
DTSTART:20260219T070000Z
DTEND:20260219T084000Z
SUMMARY:Оптимизация программного обеспечения баз данных
LOCATION:11 к. 216
END:VEVENT
BEGIN:VEVENT
UID:f8q0@192.168.245.71:3006
SEQUENCE:0
DTSTAMP:20260423T085351Z
DTSTART:20260219T090000Z
DTEND:20260219T104000Z
SUMMARY:Оптимизация программного обеспечения баз данных
LOCATION:11 к. 216
END:VEVENT
BEGIN:VEVENT
UID:jtm1@192.168.245.71:3006
SEQUENCE:0
DTSTAMP:20260423T085351Z
DTSTART:20260219T110000Z
DTEND:20260219T124000Z
SUMMARY:Оптимизация программного обеспечения баз данных
LOCATION:11 к. 216
END:VEVENT
BEGIN:VEVENT
UID:h5w1@192.168.245.71:3006
SEQUENCE:0
DTSTAMP:20260423T085351Z
DTSTART:20260219T130000Z
DTEND:20260219T144000Z
SUMMARY:Оптимизация программного обеспечения баз данных
LOCATION:11 к. 102
END:VEVENT
BEGIN:VEVENT
UID:067k@192.168.245.71:3006
SEQUENCE:0
DTSTAMP:20260423T085351Z
DTSTART:20260220T110000Z
DTEND:20260220T124000Z
SUMMARY:Интеллектуальный анализ данных (на английском языке)
LOCATION:DL Дистанционно
END:VEVENT
BEGIN:VEVENT
UID:olzl@192.168.245.71:3006
SEQUENCE:0
DTSTAMP:20260423T085351Z
DTSTART:20260220T130000Z
DTEND:20260220T144000Z
SUMMARY:Администрирование баз данных
LOCATION:11 к. 348
END:VEVENT
BEGIN:VEVENT
UID:v8dy@192.168.245.71:3006
SEQUENCE:0
DTSTAMP:20260423T085351Z
DTSTART:20260221T110000Z
DTEND:20260221T124000Z
SUMMARY:Интеллектуальный анализ данных (на английском языке)
LOCATION:DL Дистанционно
END:VEVENT
BEGIN:VEVENT
UID:a0sd@192.168.245.71:3006
SEQUENCE:0
DTSTAMP:20260423T085351Z
DTSTART:20260221T150000Z
DTEND:20260221T164000Z
SUMMARY:Разработка человеко-машинного интерфейса
LOCATION:11 к. 348
END:VEVENT
END:VCALENDAR