BEGIN:VCALENDAR
VERSION:2.0
PRODID:-//spbstu.ru//ical//RU
NAME:Расписание группы 5130203/20101
X-WR-CALNAME:Расписание группы 5130203/20101
TIMEZONE-ID:Europe/Moscow
X-WR-TIMEZONE:Europe/Moscow
BEGIN:VEVENT
UID:dbkt@192.168.245.71:3006
SEQUENCE:0
DTSTAMP:20260422T153624Z
DTSTART:20260323T070000Z
DTEND:20260323T075000Z
SUMMARY:Интеллектуальный анализ данных (на английском языке)
LOCATION:DL Дистанционно
END:VEVENT
BEGIN:VEVENT
UID:zsxx@192.168.245.71:3006
SEQUENCE:0
DTSTAMP:20260422T153624Z
DTSTART:20260323T080000Z
DTEND:20260323T085000Z
SUMMARY:Курсовое проектирование по интеллектуальному анализу данных (на ан
 глийском языке)
LOCATION:DL Дистанционно
END:VEVENT
BEGIN:VEVENT
UID:k9px@192.168.245.71:3006
SEQUENCE:0
DTSTAMP:20260422T153624Z
DTSTART:20260323T090000Z
DTEND:20260323T104000Z
SUMMARY:Интеллектуальный анализ данных (на английском языке)
LOCATION:DL Дистанционно
END:VEVENT
BEGIN:VEVENT
UID:vl71@192.168.245.71:3006
SEQUENCE:0
DTSTAMP:20260422T153624Z
DTSTART:20260324T070000Z
DTEND:20260324T084000Z
SUMMARY:Интеллектуальный анализ данных (на английском языке)
LOCATION:DL Дистанционно
END:VEVENT
BEGIN:VEVENT
UID:x7q4@192.168.245.71:3006
SEQUENCE:0
DTSTAMP:20260422T153624Z
DTSTART:20260324T110000Z
DTEND:20260324T124000Z
SUMMARY:Курсовое проектирование по интеллектуальному анализу данных (на ан
 глийском языке)
LOCATION:DL Дистанционно
END:VEVENT
BEGIN:VEVENT
UID:bu97@192.168.245.71:3006
SEQUENCE:0
DTSTAMP:20260422T153624Z
DTSTART:20260325T053000Z
DTEND:20260325T142000Z
SUMMARY:Военная подготовка
LOCATION:Военная каф. кафедра
END:VEVENT
BEGIN:VEVENT
UID:0yfr@192.168.245.71:3006
SEQUENCE:0
DTSTAMP:20260422T153624Z
DTSTART:20260326T060000Z
DTEND:20260326T065000Z
SUMMARY:Оптимизация программного обеспечения баз данных
LOCATION:11 к. 216
END:VEVENT
BEGIN:VEVENT
UID:iv5g@192.168.245.71:3006
SEQUENCE:0
DTSTAMP:20260422T153624Z
DTSTART:20260326T070000Z
DTEND:20260326T084000Z
SUMMARY:Оптимизация программного обеспечения баз данных
LOCATION:11 к. 216
END:VEVENT
BEGIN:VEVENT
UID:nkui@192.168.245.71:3006
SEQUENCE:0
DTSTAMP:20260422T153624Z
DTSTART:20260326T090000Z
DTEND:20260326T104000Z
SUMMARY:Оптимизация программного обеспечения баз данных
LOCATION:11 к. 216
END:VEVENT
BEGIN:VEVENT
UID:dpzk@192.168.245.71:3006
SEQUENCE:0
DTSTAMP:20260422T153624Z
DTSTART:20260326T110000Z
DTEND:20260326T124000Z
SUMMARY:Оптимизация программного обеспечения баз данных
LOCATION:11 к. 216
END:VEVENT
BEGIN:VEVENT
UID:x91e@192.168.245.71:3006
SEQUENCE:0
DTSTAMP:20260422T153624Z
DTSTART:20260326T130000Z
DTEND:20260326T144000Z
SUMMARY:Оптимизация программного обеспечения баз данных
LOCATION:11 к. 102
END:VEVENT
BEGIN:VEVENT
UID:lcdo@192.168.245.71:3006
SEQUENCE:0
DTSTAMP:20260422T153624Z
DTSTART:20260327T070000Z
DTEND:20260327T084000Z
SUMMARY:Интеллектуальный анализ данных (на английском языке)
LOCATION:DL Дистанционно
END:VEVENT
END:VCALENDAR