BEGIN:VCALENDAR
VERSION:2.0
PRODID:-//spbstu.ru//ical//RU
NAME:Расписание группы 5130203/20101
X-WR-CALNAME:Расписание группы 5130203/20101
TIMEZONE-ID:Europe/Moscow
X-WR-TIMEZONE:Europe/Moscow
BEGIN:VEVENT
UID:atiz@192.168.245.71:3006
SEQUENCE:0
DTSTAMP:20260422T204216Z
DTSTART:20260310T070000Z
DTEND:20260310T084000Z
SUMMARY:Интеллектуальный анализ данных (на английском языке)
LOCATION:DL Дистанционно
END:VEVENT
BEGIN:VEVENT
UID:89gw@192.168.245.71:3006
SEQUENCE:0
DTSTAMP:20260422T204216Z
DTSTART:20260310T110000Z
DTEND:20260310T124000Z
SUMMARY:Курсовое проектирование по интеллектуальному анализу данных (на ан
 глийском языке)
LOCATION:DL Дистанционно
END:VEVENT
BEGIN:VEVENT
UID:5h93@192.168.245.71:3006
SEQUENCE:0
DTSTAMP:20260422T204216Z
DTSTART:20260311T053000Z
DTEND:20260311T142000Z
SUMMARY:Военная подготовка
LOCATION:Военная каф. кафедра
END:VEVENT
BEGIN:VEVENT
UID:1wth@192.168.245.71:3006
SEQUENCE:0
DTSTAMP:20260422T204216Z
DTSTART:20260312T060000Z
DTEND:20260312T065000Z
SUMMARY:Оптимизация программного обеспечения баз данных
LOCATION:11 к. 216
END:VEVENT
BEGIN:VEVENT
UID:ckw7@192.168.245.71:3006
SEQUENCE:0
DTSTAMP:20260422T204216Z
DTSTART:20260312T070000Z
DTEND:20260312T084000Z
SUMMARY:Информационная безопасность
LOCATION:11 к. 218
END:VEVENT
BEGIN:VEVENT
UID:cyd9@192.168.245.71:3006
SEQUENCE:0
DTSTAMP:20260422T204216Z
DTSTART:20260312T070000Z
DTEND:20260312T084000Z
SUMMARY:Оптимизация программного обеспечения баз данных
LOCATION:11 к. 216
END:VEVENT
BEGIN:VEVENT
UID:lm25@192.168.245.71:3006
SEQUENCE:0
DTSTAMP:20260422T204216Z
DTSTART:20260312T090000Z
DTEND:20260312T104000Z
SUMMARY:Оптимизация программного обеспечения баз данных
LOCATION:11 к. 216
END:VEVENT
BEGIN:VEVENT
UID:5976@192.168.245.71:3006
SEQUENCE:0
DTSTAMP:20260422T204216Z
DTSTART:20260312T110000Z
DTEND:20260312T124000Z
SUMMARY:Оптимизация программного обеспечения баз данных
LOCATION:11 к. 216
END:VEVENT
BEGIN:VEVENT
UID:ob1p@192.168.245.71:3006
SEQUENCE:0
DTSTAMP:20260422T204216Z
DTSTART:20260312T130000Z
DTEND:20260312T144000Z
SUMMARY:Оптимизация программного обеспечения баз данных
LOCATION:11 к. 102
END:VEVENT
BEGIN:VEVENT
UID:ptou@192.168.245.71:3006
SEQUENCE:0
DTSTAMP:20260422T204216Z
DTSTART:20260313T130000Z
DTEND:20260313T144000Z
SUMMARY:Интеллектуальный анализ данных (на английском языке)
LOCATION:DL Дистанционно
END:VEVENT
END:VCALENDAR