BEGIN:VCALENDAR
VERSION:2.0
PRODID:-//spbstu.ru//ical//RU
NAME:Расписание группы 5130203/20102
X-WR-CALNAME:Расписание группы 5130203/20102
TIMEZONE-ID:Europe/Moscow
X-WR-TIMEZONE:Europe/Moscow
BEGIN:VEVENT
UID:a0mf@192.168.245.71:3006
SEQUENCE:0
DTSTAMP:20260425T004538Z
DTSTART:20251027T110000Z
DTEND:20251027T124000Z
SUMMARY:Информационная безопасность
LOCATION:11 к. 211
END:VEVENT
BEGIN:VEVENT
UID:mg8o@192.168.245.71:3006
SEQUENCE:0
DTSTAMP:20260425T004538Z
DTSTART:20251027T130000Z
DTEND:20251027T144000Z
SUMMARY:Системы реального времени
LOCATION:11 к. 102
END:VEVENT
BEGIN:VEVENT
UID:vxw3@192.168.245.71:3006
SEQUENCE:0
DTSTAMP:20260425T004538Z
DTSTART:20251028T090000Z
DTEND:20251028T104000Z
SUMMARY:Системы реального времени
LOCATION:11 к. 336
END:VEVENT
BEGIN:VEVENT
UID:xzzg@192.168.245.71:3006
SEQUENCE:0
DTSTAMP:20260425T004538Z
DTSTART:20251028T090000Z
DTEND:20251028T104000Z
SUMMARY:Системы реального времени
LOCATION:11 к. 325
END:VEVENT
BEGIN:VEVENT
UID:rr3j@192.168.245.71:3006
SEQUENCE:0
DTSTAMP:20260425T004538Z
DTSTART:20251028T110000Z
DTEND:20251028T124000Z
SUMMARY:Технологии разработки ИТ-продуктов
LOCATION:11 к. 319
END:VEVENT
BEGIN:VEVENT
UID:02ll@192.168.245.71:3006
SEQUENCE:0
DTSTAMP:20260425T004538Z
DTSTART:20251028T130000Z
DTEND:20251028T144000Z
SUMMARY:Информационная безопасность
LOCATION:11 к. 143
END:VEVENT
BEGIN:VEVENT
UID:qo6g@192.168.245.71:3006
SEQUENCE:0
DTSTAMP:20260425T004538Z
DTSTART:20251029T053000Z
DTEND:20251029T142000Z
SUMMARY:Военная подготовка
LOCATION:Военная каф. кафедра
END:VEVENT
BEGIN:VEVENT
UID:0i01@192.168.245.71:3006
SEQUENCE:0
DTSTAMP:20260425T004538Z
DTSTART:20251030T070000Z
DTEND:20251030T084000Z
SUMMARY:Разработка человеко-машинного интерфейса
LOCATION:DL Дистанционно
END:VEVENT
BEGIN:VEVENT
UID:xpfa@192.168.245.71:3006
SEQUENCE:0
DTSTAMP:20260425T004538Z
DTSTART:20251030T090000Z
DTEND:20251030T104000Z
SUMMARY:Разработка человеко-машинного интерфейса
LOCATION:DL Дистанционно
END:VEVENT
BEGIN:VEVENT
UID:mvk5@192.168.245.71:3006
SEQUENCE:0
DTSTAMP:20260425T004538Z
DTSTART:20251101T070000Z
DTEND:20251101T084000Z
SUMMARY:Администрирование баз данных
LOCATION:DL Дистанционно
END:VEVENT
BEGIN:VEVENT
UID:voze@192.168.245.71:3006
SEQUENCE:0
DTSTAMP:20260425T004538Z
DTSTART:20251101T090000Z
DTEND:20251101T104000Z
SUMMARY:Интеллектуальный анализ данных (на английском языке)
LOCATION:DL Дистанционно
END:VEVENT
BEGIN:VEVENT
UID:h66m@192.168.245.71:3006
SEQUENCE:0
DTSTAMP:20260425T004538Z
DTSTART:20251101T110000Z
DTEND:20251101T124000Z
SUMMARY:Администрирование баз данных
LOCATION:DL Дистанционно
END:VEVENT
BEGIN:VEVENT
UID:a1pn@192.168.245.71:3006
SEQUENCE:0
DTSTAMP:20260425T004538Z
DTSTART:20251101T130000Z
DTEND:20251101T144000Z
SUMMARY:Интеллектуальный анализ данных (на английском языке)
LOCATION:DL Дистанционно
END:VEVENT
END:VCALENDAR