BEGIN:VCALENDAR
VERSION:2.0
PRODID:-//spbstu.ru//ical//RU
NAME:Расписание группы 5130203/20102
X-WR-CALNAME:Расписание группы 5130203/20102
TIMEZONE-ID:Europe/Moscow
X-WR-TIMEZONE:Europe/Moscow
BEGIN:VEVENT
UID:vqq3@192.168.245.71:3006
SEQUENCE:0
DTSTAMP:20260422T014814Z
DTSTART:20260310T090000Z
DTEND:20260310T104000Z
SUMMARY:Интеллектуальный анализ данных (на английском языке)
LOCATION:DL Дистанционно
END:VEVENT
BEGIN:VEVENT
UID:4078@192.168.245.71:3006
SEQUENCE:0
DTSTAMP:20260422T014814Z
DTSTART:20260310T130000Z
DTEND:20260310T144000Z
SUMMARY:Курсовое проектирование по интеллектуальному анализу данных (на ан
 глийском языке)
LOCATION:DL Дистанционно
END:VEVENT
BEGIN:VEVENT
UID:5f4q@192.168.245.71:3006
SEQUENCE:0
DTSTAMP:20260422T014814Z
DTSTART:20260311T053000Z
DTEND:20260311T142000Z
SUMMARY:Военная подготовка
LOCATION:Военная каф. кафедра
END:VEVENT
BEGIN:VEVENT
UID:6p1g@192.168.245.71:3006
SEQUENCE:0
DTSTAMP:20260422T014814Z
DTSTART:20260312T070000Z
DTEND:20260312T084000Z
SUMMARY:Информационная безопасность
LOCATION:11 к. 218
END:VEVENT
BEGIN:VEVENT
UID:chty@192.168.245.71:3006
SEQUENCE:0
DTSTAMP:20260422T014814Z
DTSTART:20260312T130000Z
DTEND:20260312T144000Z
SUMMARY:Оптимизация программного обеспечения баз данных
LOCATION:11 к. 102
END:VEVENT
BEGIN:VEVENT
UID:ghm0@192.168.245.71:3006
SEQUENCE:0
DTSTAMP:20260422T014814Z
DTSTART:20260313T050000Z
DTEND:20260313T064000Z
SUMMARY:Оптимизация программного обеспечения баз данных
LOCATION:11 к. 216
END:VEVENT
BEGIN:VEVENT
UID:jvuy@192.168.245.71:3006
SEQUENCE:0
DTSTAMP:20260422T014814Z
DTSTART:20260313T070000Z
DTEND:20260313T084000Z
SUMMARY:Оптимизация программного обеспечения баз данных
LOCATION:11 к. 216
END:VEVENT
BEGIN:VEVENT
UID:9syq@192.168.245.71:3006
SEQUENCE:0
DTSTAMP:20260422T014814Z
DTSTART:20260313T090000Z
DTEND:20260313T104000Z
SUMMARY:Оптимизация программного обеспечения баз данных
LOCATION:11 к. 218
END:VEVENT
BEGIN:VEVENT
UID:locv@192.168.245.71:3006
SEQUENCE:0
DTSTAMP:20260422T014814Z
DTSTART:20260313T110000Z
DTEND:20260313T124000Z
SUMMARY:Интеллектуальный анализ данных (на английском языке)
LOCATION:DL Дистанционно
END:VEVENT
BEGIN:VEVENT
UID:qs6u@192.168.245.71:3006
SEQUENCE:0
DTSTAMP:20260422T014814Z
DTSTART:20260314T110000Z
DTEND:20260314T124000Z
SUMMARY:Интеллектуальный анализ данных (на английском языке)
LOCATION:DL Дистанционно
END:VEVENT
END:VCALENDAR