BEGIN:VCALENDAR
VERSION:2.0
PRODID:-//spbstu.ru//ical//RU
NAME:Расписание группы 5130203/20102
X-WR-CALNAME:Расписание группы 5130203/20102
TIMEZONE-ID:Europe/Moscow
X-WR-TIMEZONE:Europe/Moscow
BEGIN:VEVENT
UID:h29x@192.168.245.71:3006
SEQUENCE:0
DTSTAMP:20260421T185650Z
DTSTART:20260406T070000Z
DTEND:20260406T075000Z
SUMMARY:Интеллектуальный анализ данных (на английском языке)
LOCATION:DL Дистанционно
END:VEVENT
BEGIN:VEVENT
UID:2tpc@192.168.245.71:3006
SEQUENCE:0
DTSTAMP:20260421T185650Z
DTSTART:20260406T080000Z
DTEND:20260406T085000Z
SUMMARY:Курсовое проектирование по интеллектуальному анализу данных (на ан
 глийском языке)
LOCATION:DL Дистанционно
END:VEVENT
BEGIN:VEVENT
UID:uecz@192.168.245.71:3006
SEQUENCE:0
DTSTAMP:20260421T185650Z
DTSTART:20260406T110000Z
DTEND:20260406T124000Z
SUMMARY:Интеллектуальный анализ данных (на английском языке)
LOCATION:DL Дистанционно
END:VEVENT
BEGIN:VEVENT
UID:us55@192.168.245.71:3006
SEQUENCE:0
DTSTAMP:20260421T185650Z
DTSTART:20260406T130000Z
DTEND:20260406T144000Z
SUMMARY:Интеллектуальный анализ данных (на английском языке)
LOCATION:DL Дистанционно
END:VEVENT
BEGIN:VEVENT
UID:epud@192.168.245.71:3006
SEQUENCE:0
DTSTAMP:20260421T185650Z
DTSTART:20260407T090000Z
DTEND:20260407T104000Z
SUMMARY:Интеллектуальный анализ данных (на английском языке)
LOCATION:DL Дистанционно
END:VEVENT
BEGIN:VEVENT
UID:rkle@192.168.245.71:3006
SEQUENCE:0
DTSTAMP:20260421T185650Z
DTSTART:20260407T130000Z
DTEND:20260407T144000Z
SUMMARY:Курсовое проектирование по интеллектуальному анализу данных (на ан
 глийском языке)
LOCATION:DL Дистанционно
END:VEVENT
BEGIN:VEVENT
UID:4b1a@192.168.245.71:3006
SEQUENCE:0
DTSTAMP:20260421T185650Z
DTSTART:20260408T053000Z
DTEND:20260408T142000Z
SUMMARY:Военная подготовка
LOCATION:Военная каф. кафедра
END:VEVENT
BEGIN:VEVENT
UID:ww7h@192.168.245.71:3006
SEQUENCE:0
DTSTAMP:20260421T185650Z
DTSTART:20260409T110000Z
DTEND:20260409T124000Z
SUMMARY:Преддипломная практика
LOCATION:Не опр. База практик
END:VEVENT
BEGIN:VEVENT
UID:ka0m@192.168.245.71:3006
SEQUENCE:0
DTSTAMP:20260421T185650Z
DTSTART:20260409T130000Z
DTEND:20260409T144000Z
SUMMARY:Оптимизация программного обеспечения баз данных
LOCATION:11 к. 102
END:VEVENT
BEGIN:VEVENT
UID:1cbe@192.168.245.71:3006
SEQUENCE:0
DTSTAMP:20260421T185650Z
DTSTART:20260410T070000Z
DTEND:20260410T084000Z
SUMMARY:Оптимизация программного обеспечения баз данных
LOCATION:11 к. 216
END:VEVENT
BEGIN:VEVENT
UID:bnkc@192.168.245.71:3006
SEQUENCE:0
DTSTAMP:20260421T185650Z
DTSTART:20260410T090000Z
DTEND:20260410T104000Z
SUMMARY:Оптимизация программного обеспечения баз данных
LOCATION:11 к. 218
END:VEVENT
BEGIN:VEVENT
UID:jc9x@192.168.245.71:3006
SEQUENCE:0
DTSTAMP:20260421T185650Z
DTSTART:20260410T110000Z
DTEND:20260410T124000Z
SUMMARY:Интеллектуальный анализ данных (на английском языке)
LOCATION:DL Дистанционно
END:VEVENT
BEGIN:VEVENT
UID:769x@192.168.245.71:3006
SEQUENCE:0
DTSTAMP:20260421T185650Z
DTSTART:20260410T130000Z
DTEND:20260410T144000Z
SUMMARY:Интеллектуальный анализ данных (на английском языке)
LOCATION:DL Дистанционно
END:VEVENT
BEGIN:VEVENT
UID:l7qu@192.168.245.71:3006
SEQUENCE:0
DTSTAMP:20260421T185650Z
DTSTART:20260411T070000Z
DTEND:20260411T084000Z
SUMMARY:Оптимизация программного обеспечения баз данных
LOCATION:11 к. 216
END:VEVENT
BEGIN:VEVENT
UID:iezr@192.168.245.71:3006
SEQUENCE:0
DTSTAMP:20260421T185650Z
DTSTART:20260411T090000Z
DTEND:20260411T104000Z
SUMMARY:Оптимизация программного обеспечения баз данных
LOCATION:11 к. 216
END:VEVENT
END:VCALENDAR