BEGIN:VCALENDAR
VERSION:2.0
PRODID:-//spbstu.ru//ical//RU
NAME:Расписание группы 5130901/20102
X-WR-CALNAME:Расписание группы 5130901/20102
TIMEZONE-ID:Europe/Moscow
X-WR-TIMEZONE:Europe/Moscow
BEGIN:VEVENT
UID:4jsi@192.168.245.71:3006
SEQUENCE:0
DTSTAMP:20260425T020712Z
DTSTART:20260310T090000Z
DTEND:20260310T104000Z
SUMMARY:Сигнальные процессоры
LOCATION:3 к. 503
END:VEVENT
BEGIN:VEVENT
UID:8swb@192.168.245.71:3006
SEQUENCE:0
DTSTAMP:20260425T020712Z
DTSTART:20260310T110000Z
DTEND:20260310T124000Z
SUMMARY:Сигнальные процессоры
LOCATION:3 к. 404а
END:VEVENT
BEGIN:VEVENT
UID:wply@192.168.245.71:3006
SEQUENCE:0
DTSTAMP:20260425T020712Z
DTSTART:20260310T130000Z
DTEND:20260310T144000Z
SUMMARY:Интерфейсы внешних устройств
LOCATION:3 к. 508
END:VEVENT
BEGIN:VEVENT
UID:qzow@192.168.245.71:3006
SEQUENCE:0
DTSTAMP:20260425T020712Z
DTSTART:20260311T053000Z
DTEND:20260311T142000Z
SUMMARY:Военная подготовка
LOCATION:Военная каф. кафедра
END:VEVENT
BEGIN:VEVENT
UID:jin2@192.168.245.71:3006
SEQUENCE:0
DTSTAMP:20260425T020712Z
DTSTART:20260312T070000Z
DTEND:20260312T084000Z
SUMMARY:Основы теории управления
LOCATION:3 к. 511
END:VEVENT
BEGIN:VEVENT
UID:3krx@192.168.245.71:3006
SEQUENCE:0
DTSTAMP:20260425T020712Z
DTSTART:20260312T090000Z
DTEND:20260312T104000Z
SUMMARY:Основы теории управления
LOCATION:3 к. 511
END:VEVENT
BEGIN:VEVENT
UID:kmyy@192.168.245.71:3006
SEQUENCE:0
DTSTAMP:20260425T020712Z
DTSTART:20260312T130000Z
DTEND:20260312T144000Z
SUMMARY:Основы теории управления
LOCATION:ГЗ 235
END:VEVENT
BEGIN:VEVENT
UID:fu1f@192.168.245.71:3006
SEQUENCE:0
DTSTAMP:20260425T020712Z
DTSTART:20260314T110000Z
DTEND:20260314T124000Z
SUMMARY:Автоматизация конструирования электронных устройств
LOCATION:3 к. 410
END:VEVENT
BEGIN:VEVENT
UID:99l0@192.168.245.71:3006
SEQUENCE:0
DTSTAMP:20260425T020712Z
DTSTART:20260314T130000Z
DTEND:20260314T144000Z
SUMMARY:Автоматизация конструирования электронных устройств
LOCATION:3 к. 410
END:VEVENT
END:VCALENDAR