BEGIN:VCALENDAR
VERSION:2.0
PRODID:-//spbstu.ru//ical//RU
NAME:Расписание группы 5130901/20102
X-WR-CALNAME:Расписание группы 5130901/20102
TIMEZONE-ID:Europe/Moscow
X-WR-TIMEZONE:Europe/Moscow
BEGIN:VEVENT
UID:gams@192.168.245.71:3006
SEQUENCE:0
DTSTAMP:20260421T085240Z
DTSTART:20260420T070000Z
DTEND:20260420T084000Z
SUMMARY:Научно-исследовательская работа
LOCATION:Не опр. База практик
END:VEVENT
BEGIN:VEVENT
UID:8e17@192.168.245.71:3006
SEQUENCE:0
DTSTAMP:20260421T085240Z
DTSTART:20260421T090000Z
DTEND:20260421T114000Z
SUMMARY:Сигнальные процессоры
LOCATION:3 к. 400
END:VEVENT
BEGIN:VEVENT
UID:lpd9@192.168.245.71:3006
SEQUENCE:0
DTSTAMP:20260421T085240Z
DTSTART:20260423T070000Z
DTEND:20260423T120000Z
SUMMARY:Интерфейсы внешних устройств
LOCATION:3 к. 400
END:VEVENT
BEGIN:VEVENT
UID:yb5f@192.168.245.71:3006
SEQUENCE:0
DTSTAMP:20260421T085240Z
DTSTART:20260425T090000Z
DTEND:20260425T114000Z
SUMMARY:Автоматизация конструирования электронных устройств
LOCATION:3 к. 410
END:VEVENT
END:VCALENDAR