BEGIN:VCALENDAR
VERSION:2.0
PRODID:-//spbstu.ru//ical//RU
NAME:Расписание группы 5130901/20102
X-WR-CALNAME:Расписание группы 5130901/20102
TIMEZONE-ID:Europe/Moscow
X-WR-TIMEZONE:Europe/Moscow
BEGIN:VEVENT
UID:y82g@192.168.245.71:3006
SEQUENCE:0
DTSTAMP:20260422T063853Z
DTSTART:20260406T070000Z
DTEND:20260406T084000Z
SUMMARY:Научно-исследовательская работа
LOCATION:Не опр. База практик
END:VEVENT
BEGIN:VEVENT
UID:lngk@192.168.245.71:3006
SEQUENCE:0
DTSTAMP:20260422T063853Z
DTSTART:20260407T090000Z
DTEND:20260407T104000Z
SUMMARY:Сигнальные процессоры
LOCATION:3 к. 503
END:VEVENT
BEGIN:VEVENT
UID:3uyj@192.168.245.71:3006
SEQUENCE:0
DTSTAMP:20260422T063853Z
DTSTART:20260407T110000Z
DTEND:20260407T124000Z
SUMMARY:Сигнальные процессоры
LOCATION:3 к. 404а
END:VEVENT
BEGIN:VEVENT
UID:6mkr@192.168.245.71:3006
SEQUENCE:0
DTSTAMP:20260422T063853Z
DTSTART:20260408T053000Z
DTEND:20260408T142000Z
SUMMARY:Военная подготовка
LOCATION:Военная каф. кафедра
END:VEVENT
BEGIN:VEVENT
UID:re2d@192.168.245.71:3006
SEQUENCE:0
DTSTAMP:20260422T063853Z
DTSTART:20260409T070000Z
DTEND:20260409T084000Z
SUMMARY:Основы теории управления
LOCATION:3 к. 511
END:VEVENT
BEGIN:VEVENT
UID:1mf6@192.168.245.71:3006
SEQUENCE:0
DTSTAMP:20260422T063853Z
DTSTART:20260409T090000Z
DTEND:20260409T104000Z
SUMMARY:Основы теории управления
LOCATION:3 к. 511
END:VEVENT
BEGIN:VEVENT
UID:uvq4@192.168.245.71:3006
SEQUENCE:0
DTSTAMP:20260422T063853Z
DTSTART:20260409T130000Z
DTEND:20260409T144000Z
SUMMARY:Основы теории управления
LOCATION:ГЗ 235
END:VEVENT
BEGIN:VEVENT
UID:nie1@192.168.245.71:3006
SEQUENCE:0
DTSTAMP:20260422T063853Z
DTSTART:20260410T123000Z
DTEND:20260410T130000Z
SUMMARY:Методы глубокого машинного обучения
LOCATION:3 к. 406
END:VEVENT
BEGIN:VEVENT
UID:wehk@192.168.245.71:3006
SEQUENCE:0
DTSTAMP:20260422T063853Z
DTSTART:20260411T110000Z
DTEND:20260411T124000Z
SUMMARY:Автоматизация конструирования электронных устройств
LOCATION:3 к. 410
END:VEVENT
BEGIN:VEVENT
UID:vw2n@192.168.245.71:3006
SEQUENCE:0
DTSTAMP:20260422T063853Z
DTSTART:20260411T130000Z
DTEND:20260411T144000Z
SUMMARY:Автоматизация конструирования электронных устройств
LOCATION:3 к. 410
END:VEVENT
END:VCALENDAR