BEGIN:VCALENDAR
VERSION:2.0
PRODID:-//spbstu.ru//ical//RU
NAME:Расписание группы 5130901/20103
X-WR-CALNAME:Расписание группы 5130901/20103
TIMEZONE-ID:Europe/Moscow
X-WR-TIMEZONE:Europe/Moscow
BEGIN:VEVENT
UID:zylx@192.168.245.71:3006
SEQUENCE:0
DTSTAMP:20260424T231759Z
DTSTART:20251201T090000Z
DTEND:20251201T104000Z
SUMMARY:Технологии компьютерных сетей
LOCATION:3 к. 401
END:VEVENT
BEGIN:VEVENT
UID:gm1p@192.168.245.71:3006
SEQUENCE:0
DTSTAMP:20260424T231759Z
DTSTART:20251201T110000Z
DTEND:20251201T124000Z
SUMMARY:Интерфейсы внешних устройств
LOCATION:3 к. 401
END:VEVENT
BEGIN:VEVENT
UID:gwfw@192.168.245.71:3006
SEQUENCE:0
DTSTAMP:20260424T231759Z
DTSTART:20251201T130000Z
DTEND:20251201T144000Z
SUMMARY:Технологии компьютерных сетей
LOCATION:3 к. 404
END:VEVENT
BEGIN:VEVENT
UID:p9yx@192.168.245.71:3006
SEQUENCE:0
DTSTAMP:20260424T231759Z
DTSTART:20251201T130000Z
DTEND:20251201T144000Z
SUMMARY:Технологии компьютерных сетей
LOCATION:3 к. 404
END:VEVENT
BEGIN:VEVENT
UID:7krf@192.168.245.71:3006
SEQUENCE:0
DTSTAMP:20260424T231759Z
DTSTART:20251202T070000Z
DTEND:20251202T084000Z
SUMMARY:Микропроцессорные системы
LOCATION:3 к. 401
END:VEVENT
BEGIN:VEVENT
UID:0h32@192.168.245.71:3006
SEQUENCE:0
DTSTAMP:20260424T231759Z
DTSTART:20251202T090000Z
DTEND:20251202T104000Z
SUMMARY:Методы глубокого машинного обучения
LOCATION:3 к. 401
END:VEVENT
BEGIN:VEVENT
UID:om1n@192.168.245.71:3006
SEQUENCE:0
DTSTAMP:20260424T231759Z
DTSTART:20251202T110000Z
DTEND:20251202T124000Z
SUMMARY:Методы глубокого машинного обучения
LOCATION:3 к. 303
END:VEVENT
BEGIN:VEVENT
UID:pfh5@192.168.245.71:3006
SEQUENCE:0
DTSTAMP:20260424T231759Z
DTSTART:20251202T150000Z
DTEND:20251202T164000Z
SUMMARY:Методы глубокого машинного обучения
LOCATION:3 к. 303
END:VEVENT
BEGIN:VEVENT
UID:s723@192.168.245.71:3006
SEQUENCE:0
DTSTAMP:20260424T231759Z
DTSTART:20251202T150000Z
DTEND:20251202T164000Z
SUMMARY:Методы глубокого машинного обучения
LOCATION:3 к. 303
END:VEVENT
BEGIN:VEVENT
UID:y2mo@192.168.245.71:3006
SEQUENCE:0
DTSTAMP:20260424T231759Z
DTSTART:20251203T053000Z
DTEND:20251203T142000Z
SUMMARY:Военная подготовка
LOCATION:Военная каф. кафедра
END:VEVENT
BEGIN:VEVENT
UID:3r61@192.168.245.71:3006
SEQUENCE:0
DTSTAMP:20260424T231759Z
DTSTART:20251204T070000Z
DTEND:20251204T084000Z
SUMMARY:Микропроцессорные системы
LOCATION:3 к. 400
END:VEVENT
BEGIN:VEVENT
UID:0wbm@192.168.245.71:3006
SEQUENCE:0
DTSTAMP:20260424T231759Z
DTSTART:20251204T090000Z
DTEND:20251204T104000Z
SUMMARY:Микропроцессорные системы
LOCATION:3 к. 400
END:VEVENT
BEGIN:VEVENT
UID:mkxv@192.168.245.71:3006
SEQUENCE:0
DTSTAMP:20260424T231759Z
DTSTART:20251205T110000Z
DTEND:20251205T124000Z
SUMMARY:Цифровая обработка сигналов
LOCATION:3 к. 401
END:VEVENT
BEGIN:VEVENT
UID:wbnv@192.168.245.71:3006
SEQUENCE:0
DTSTAMP:20260424T231759Z
DTSTART:20251205T130000Z
DTEND:20251205T144000Z
SUMMARY:Цифровая обработка сигналов
LOCATION:3 к. 404
END:VEVENT
BEGIN:VEVENT
UID:08uz@192.168.245.71:3006
SEQUENCE:0
DTSTAMP:20260424T231759Z
DTSTART:20251206T110000Z
DTEND:20251206T124000Z
SUMMARY:Программная инженерия
LOCATION:3 к. 404
END:VEVENT
END:VCALENDAR