BEGIN:VCALENDAR
VERSION:2.0
PRODID:-//spbstu.ru//ical//RU
NAME:Расписание группы 5130901/20103
X-WR-CALNAME:Расписание группы 5130901/20103
TIMEZONE-ID:Europe/Moscow
X-WR-TIMEZONE:Europe/Moscow
BEGIN:VEVENT
UID:oljk@192.168.245.71:3006
SEQUENCE:0
DTSTAMP:20260423T145424Z
DTSTART:20260119T100000Z
DTEND:20260119T150000Z
SUMMARY:Микропроцессорные системы
LOCATION:3 к. 400
END:VEVENT
BEGIN:VEVENT
UID:zrm1@192.168.245.71:3006
SEQUENCE:0
DTSTAMP:20260423T145424Z
DTSTART:20260121T090000Z
DTEND:20260121T104000Z
SUMMARY:Технологии компьютерных сетей
LOCATION:3 к. 303
END:VEVENT
BEGIN:VEVENT
UID:ouqh@192.168.245.71:3006
SEQUENCE:0
DTSTAMP:20260423T145424Z
DTSTART:20260121T120000Z
DTEND:20260121T144000Z
SUMMARY:Интерфейсы внешних устройств
LOCATION:3 к. 508
END:VEVENT
BEGIN:VEVENT
UID:dsvs@192.168.245.71:3006
SEQUENCE:0
DTSTAMP:20260423T145424Z
DTSTART:20260123T070000Z
DTEND:20260123T094000Z
SUMMARY:Комплексная курсовая работа Автоматизация проектирования дискретны
 х устройств
LOCATION:3 к. 303
END:VEVENT
BEGIN:VEVENT
UID:x546@192.168.245.71:3006
SEQUENCE:0
DTSTAMP:20260423T145424Z
DTSTART:20260123T100000Z
DTEND:20260123T124000Z
SUMMARY:Комплексная курсовая работа Автоматизация проектирования дискретны
 х устройств
LOCATION:3 к. 303
END:VEVENT
END:VCALENDAR