BEGIN:VCALENDAR
VERSION:2.0
PRODID:-//spbstu.ru//ical//RU
NAME:Расписание группы 5130901/20103
X-WR-CALNAME:Расписание группы 5130901/20103
TIMEZONE-ID:Europe/Moscow
X-WR-TIMEZONE:Europe/Moscow
BEGIN:VEVENT
UID:xbe5@192.168.245.71:3006
SEQUENCE:0
DTSTAMP:20260423T002425Z
DTSTART:20260217T090000Z
DTEND:20260217T104000Z
SUMMARY:Сигнальные процессоры
LOCATION:3 к. 503
END:VEVENT
BEGIN:VEVENT
UID:rjhl@192.168.245.71:3006
SEQUENCE:0
DTSTAMP:20260423T002425Z
DTSTART:20260217T110000Z
DTEND:20260217T124000Z
SUMMARY:Интерфейсы внешних устройств
LOCATION:3 к. 508
END:VEVENT
BEGIN:VEVENT
UID:nds6@192.168.245.71:3006
SEQUENCE:0
DTSTAMP:20260423T002425Z
DTSTART:20260217T130000Z
DTEND:20260217T144000Z
SUMMARY:Сигнальные процессоры
LOCATION:3 к. 404а
END:VEVENT
BEGIN:VEVENT
UID:wp33@192.168.245.71:3006
SEQUENCE:0
DTSTAMP:20260423T002425Z
DTSTART:20260217T150000Z
DTEND:20260217T164000Z
SUMMARY:Интерфейсы внешних устройств
LOCATION:3 к. 508
END:VEVENT
BEGIN:VEVENT
UID:c1g0@192.168.245.71:3006
SEQUENCE:0
DTSTAMP:20260423T002425Z
DTSTART:20260218T053000Z
DTEND:20260218T142000Z
SUMMARY:Военная подготовка
LOCATION:Военная каф. кафедра
END:VEVENT
BEGIN:VEVENT
UID:iiq6@192.168.245.71:3006
SEQUENCE:0
DTSTAMP:20260423T002425Z
DTSTART:20260219T090000Z
DTEND:20260219T104000Z
SUMMARY:Автоматизация конструирования электронных устройств
LOCATION:3 к. 408
END:VEVENT
BEGIN:VEVENT
UID:czd5@192.168.245.71:3006
SEQUENCE:0
DTSTAMP:20260423T002425Z
DTSTART:20260219T110000Z
DTEND:20260219T124000Z
SUMMARY:Интерфейсы внешних устройств
LOCATION:3 к. 503
END:VEVENT
BEGIN:VEVENT
UID:l5gk@192.168.245.71:3006
SEQUENCE:0
DTSTAMP:20260423T002425Z
DTSTART:20260219T130000Z
DTEND:20260219T144000Z
SUMMARY:Основы теории управления
LOCATION:ГЗ 235
END:VEVENT
BEGIN:VEVENT
UID:7o1a@192.168.245.71:3006
SEQUENCE:0
DTSTAMP:20260423T002425Z
DTSTART:20260219T150000Z
DTEND:20260219T164000Z
SUMMARY:Цифровая обработка сигналов
LOCATION:3 к. 404
END:VEVENT
BEGIN:VEVENT
UID:zjcu@192.168.245.71:3006
SEQUENCE:0
DTSTAMP:20260423T002425Z
DTSTART:20260220T090000Z
DTEND:20260220T104000Z
SUMMARY:Основы теории управления
LOCATION:3 к. 511
END:VEVENT
BEGIN:VEVENT
UID:afg2@192.168.245.71:3006
SEQUENCE:0
DTSTAMP:20260423T002425Z
DTSTART:20260220T110000Z
DTEND:20260220T124000Z
SUMMARY:Основы теории управления
LOCATION:3 к. 511
END:VEVENT
BEGIN:VEVENT
UID:quxn@192.168.245.71:3006
SEQUENCE:0
DTSTAMP:20260423T002425Z
DTSTART:20260220T130000Z
DTEND:20260220T144000Z
SUMMARY:Методы глубокого машинного обучения
LOCATION:3 к. 506
END:VEVENT
BEGIN:VEVENT
UID:6896@192.168.245.71:3006
SEQUENCE:0
DTSTAMP:20260423T002425Z
DTSTART:20260220T150000Z
DTEND:20260220T164000Z
SUMMARY:Технологии компьютерных сетей
LOCATION:3 к. 505
END:VEVENT
END:VCALENDAR