BEGIN:VCALENDAR
VERSION:2.0
PRODID:-//spbstu.ru//ical//RU
NAME:Расписание группы 5130901/20201
X-WR-CALNAME:Расписание группы 5130901/20201
TIMEZONE-ID:Europe/Moscow
X-WR-TIMEZONE:Europe/Moscow
BEGIN:VEVENT
UID:3rhj@192.168.245.71:3006
SEQUENCE:0
DTSTAMP:20260421T132750Z
DTSTART:20260420T070000Z
DTEND:20260420T084000Z
SUMMARY:Научно-исследовательская работа
LOCATION:Не опр. База практик
END:VEVENT
BEGIN:VEVENT
UID:bpuf@192.168.245.71:3006
SEQUENCE:0
DTSTAMP:20260421T132750Z
DTSTART:20260421T070000Z
DTEND:20260421T094000Z
SUMMARY:Разработка мобильных приложений
LOCATION:3 к. 404а
END:VEVENT
BEGIN:VEVENT
UID:mci2@192.168.245.71:3006
SEQUENCE:0
DTSTAMP:20260421T132750Z
DTSTART:20260422T130000Z
DTEND:20260422T144000Z
SUMMARY:Аттестация программного обеспечения
LOCATION:DL Дистанционно
END:VEVENT
BEGIN:VEVENT
UID:x9dm@192.168.245.71:3006
SEQUENCE:0
DTSTAMP:20260421T132750Z
DTSTART:20260423T070000Z
DTEND:20260423T120000Z
SUMMARY:Аттестация программного обеспечения
LOCATION:3 к. 404
END:VEVENT
END:VCALENDAR