BEGIN:VCALENDAR
VERSION:2.0
PRODID:-//spbstu.ru//ical//RU
NAME:Расписание группы 5130902/20201
X-WR-CALNAME:Расписание группы 5130902/20201
TIMEZONE-ID:Europe/Moscow
X-WR-TIMEZONE:Europe/Moscow
BEGIN:VEVENT
UID:up0l@192.168.245.71:3006
SEQUENCE:0
DTSTAMP:20260424T062434Z
DTSTART:20251117T090000Z
DTEND:20251117T104000Z
SUMMARY:Корпоративные системы баз данных
LOCATION:9 к. 113
END:VEVENT
BEGIN:VEVENT
UID:cit6@192.168.245.71:3006
SEQUENCE:0
DTSTAMP:20260424T062434Z
DTSTART:20251117T090000Z
DTEND:20251117T104000Z
SUMMARY:Корпоративные системы баз данных
LOCATION:9 к. 113
END:VEVENT
BEGIN:VEVENT
UID:b0y8@192.168.245.71:3006
SEQUENCE:0
DTSTAMP:20260424T062434Z
DTSTART:20251117T110000Z
DTEND:20251117T124000Z
SUMMARY:Администрирование информационных систем
LOCATION:3 к. 506
END:VEVENT
BEGIN:VEVENT
UID:ndk7@192.168.245.71:3006
SEQUENCE:0
DTSTAMP:20260424T062434Z
DTSTART:20251117T130000Z
DTEND:20251117T144000Z
SUMMARY:Корпоративные системы баз данных
LOCATION:3 к. 401
END:VEVENT
BEGIN:VEVENT
UID:podr@192.168.245.71:3006
SEQUENCE:0
DTSTAMP:20260424T062434Z
DTSTART:20251118T090000Z
DTEND:20251118T104000Z
SUMMARY:Математические методы синтеза сложных информационных систем
LOCATION:3 к. 303
END:VEVENT
BEGIN:VEVENT
UID:iu36@192.168.245.71:3006
SEQUENCE:0
DTSTAMP:20260424T062434Z
DTSTART:20251118T110000Z
DTEND:20251118T124000Z
SUMMARY:Математические методы синтеза сложных информационных систем
LOCATION:3 к. 401
END:VEVENT
BEGIN:VEVENT
UID:sfs6@192.168.245.71:3006
SEQUENCE:0
DTSTAMP:20260424T062434Z
DTSTART:20251119T053000Z
DTEND:20251119T142000Z
SUMMARY:Военная подготовка
LOCATION:Военная каф. кафедра
END:VEVENT
BEGIN:VEVENT
UID:uubb@192.168.245.71:3006
SEQUENCE:0
DTSTAMP:20260424T062434Z
DTSTART:20251120T070000Z
DTEND:20251120T084000Z
SUMMARY:Администрирование информационных систем
LOCATION:11 к. 143
END:VEVENT
BEGIN:VEVENT
UID:2bau@192.168.245.71:3006
SEQUENCE:0
DTSTAMP:20260424T062434Z
DTSTART:20251120T090000Z
DTEND:20251120T104000Z
SUMMARY:Кроссплатформенное программирование
LOCATION:11 к. 143
END:VEVENT
BEGIN:VEVENT
UID:n7uw@192.168.245.71:3006
SEQUENCE:0
DTSTAMP:20260424T062434Z
DTSTART:20251120T110000Z
DTEND:20251120T124000Z
SUMMARY:Кроссплатформенное программирование
LOCATION:3 к. 404
END:VEVENT
BEGIN:VEVENT
UID:2d4s@192.168.245.71:3006
SEQUENCE:0
DTSTAMP:20260424T062434Z
DTSTART:20251122T070000Z
DTEND:20251122T084000Z
SUMMARY:Информационные технологии
LOCATION:11 к. 148
END:VEVENT
END:VCALENDAR