BEGIN:VCALENDAR
VERSION:2.0
PRODID:-//spbstu.ru//ical//RU
NAME:Расписание группы 5130902/20201
X-WR-CALNAME:Расписание группы 5130902/20201
TIMEZONE-ID:Europe/Moscow
X-WR-TIMEZONE:Europe/Moscow
BEGIN:VEVENT
UID:ph76@192.168.245.71:3006
SEQUENCE:0
DTSTAMP:20260424T133013Z
DTSTART:20251103T090000Z
DTEND:20251103T104000Z
SUMMARY:Корпоративные системы баз данных
LOCATION:9 к. 113
END:VEVENT
BEGIN:VEVENT
UID:4djh@192.168.245.71:3006
SEQUENCE:0
DTSTAMP:20260424T133013Z
DTSTART:20251103T090000Z
DTEND:20251103T104000Z
SUMMARY:Корпоративные системы баз данных
LOCATION:9 к. 113
END:VEVENT
BEGIN:VEVENT
UID:b3cz@192.168.245.71:3006
SEQUENCE:0
DTSTAMP:20260424T133013Z
DTSTART:20251103T110000Z
DTEND:20251103T124000Z
SUMMARY:Администрирование информационных систем
LOCATION:3 к. 506
END:VEVENT
BEGIN:VEVENT
UID:lp6w@192.168.245.71:3006
SEQUENCE:0
DTSTAMP:20260424T133013Z
DTSTART:20251103T130000Z
DTEND:20251103T144000Z
SUMMARY:Корпоративные системы баз данных
LOCATION:3 к. 401
END:VEVENT
BEGIN:VEVENT
UID:gq29@192.168.245.71:3006
SEQUENCE:0
DTSTAMP:20260424T133013Z
DTSTART:20251105T053000Z
DTEND:20251105T142000Z
SUMMARY:Военная подготовка
LOCATION:Военная каф. кафедра
END:VEVENT
BEGIN:VEVENT
UID:ykhi@192.168.245.71:3006
SEQUENCE:0
DTSTAMP:20260424T133013Z
DTSTART:20251106T070000Z
DTEND:20251106T084000Z
SUMMARY:Администрирование информационных систем
LOCATION:11 к. 143
END:VEVENT
BEGIN:VEVENT
UID:sk7z@192.168.245.71:3006
SEQUENCE:0
DTSTAMP:20260424T133013Z
DTSTART:20251106T090000Z
DTEND:20251106T104000Z
SUMMARY:Кроссплатформенное программирование
LOCATION:11 к. 143
END:VEVENT
BEGIN:VEVENT
UID:ppaa@192.168.245.71:3006
SEQUENCE:0
DTSTAMP:20260424T133013Z
DTSTART:20251106T110000Z
DTEND:20251106T124000Z
SUMMARY:Кроссплатформенное программирование
LOCATION:3 к. 404
END:VEVENT
BEGIN:VEVENT
UID:3z58@192.168.245.71:3006
SEQUENCE:0
DTSTAMP:20260424T133013Z
DTSTART:20251108T070000Z
DTEND:20251108T084000Z
SUMMARY:Информационные технологии
LOCATION:11 к. 148
END:VEVENT
END:VCALENDAR